BEGIN:VCALENDAR
VERSION:2.0
PRODID:-//Stanly County Arts Council - ECPv6.15.12.2//NONSGML v1.0//EN
CALSCALE:GREGORIAN
METHOD:PUBLISH
X-WR-CALNAME:Stanly County Arts Council
X-ORIGINAL-URL:https://stanlycountyartscouncil.org
X-WR-CALDESC:Events for Stanly County Arts Council
REFRESH-INTERVAL;VALUE=DURATION:PT1H
X-Robots-Tag:noindex
X-PUBLISHED-TTL:PT1H
BEGIN:VTIMEZONE
TZID:America/New_York
BEGIN:DAYLIGHT
TZOFFSETFROM:-0500
TZOFFSETTO:-0400
TZNAME:EDT
DTSTART:20250309T070000
END:DAYLIGHT
BEGIN:STANDARD
TZOFFSETFROM:-0400
TZOFFSETTO:-0500
TZNAME:EST
DTSTART:20251102T060000
END:STANDARD
BEGIN:DAYLIGHT
TZOFFSETFROM:-0500
TZOFFSETTO:-0400
TZNAME:EDT
DTSTART:20260308T070000
END:DAYLIGHT
BEGIN:STANDARD
TZOFFSETFROM:-0400
TZOFFSETTO:-0500
TZNAME:EST
DTSTART:20261101T060000
END:STANDARD
BEGIN:DAYLIGHT
TZOFFSETFROM:-0500
TZOFFSETTO:-0400
TZNAME:EDT
DTSTART:20270314T070000
END:DAYLIGHT
BEGIN:STANDARD
TZOFFSETFROM:-0400
TZOFFSETTO:-0500
TZNAME:EST
DTSTART:20271107T060000
END:STANDARD
END:VTIMEZONE
BEGIN:VEVENT
DTSTART;VALUE=DATE:20260421
DTEND;VALUE=DATE:20260607
DTSTAMP:20260424T032713
CREATED:20260203T214821Z
LAST-MODIFIED:20260203T215951Z
UID:10000462-1776729600-1780790399@stanlycountyartscouncil.org
SUMMARY:Stanly Arts Guild hosts Excess Art Supply Sale
DESCRIPTION:Spring is also the time when we are cleaning out our closets… maybe that new technique you tried during the long winter months just didn’t suit you…\nStanly Arts Guild hosts an Excess Art Supply Sale each spring. Let’s keep usable items out of landfills\, try new things without a huge expense\, and make room in your space for supplies that bring you joy. \n  \n 
URL:https://stanlycountyartscouncil.org/event/excess-art-supply-sale/
LOCATION:Stanly Arts Guild & Gallery\, 152 West Main St.\, Albemarle\, NC\, 28001
CATEGORIES:Stanly Arts Guild,Crafts and Arts
ATTACH;FMTTYPE=image/jpeg:https://stanlycountyartscouncil.org/wp-content/uploads/2026/01/Excess-Art-Supply-Web-Featured.jpg
ORGANIZER;CN="Stanly Arts Guild":MAILTO:stanlyartsguild19@gmail.com
END:VEVENT
BEGIN:VEVENT
DTSTART;VALUE=DATE:20260421
DTEND;VALUE=DATE:20260607
DTSTAMP:20260424T032713
CREATED:20260203T214944Z
LAST-MODIFIED:20260203T215922Z
UID:10000457-1776729600-1780790399@stanlycountyartscouncil.org
SUMMARY:Stanly Arts Guild presents Spring Garden Craft Show
DESCRIPTION:After those cold winter days\, we are just jumping at the chance to beautify our yards and enjoy being outside. Our customers love being able to shop for unique art for their patios\, decks and yards. \nVendors are invited to sell their beautiful yard art creations so everyone can add what they like best to their yard\, garden\, porch\, deck\, camper\, wherever they want to decorate nature! Come by The Stanly Arts Guild store to see what you might find. \n  \n 
URL:https://stanlycountyartscouncil.org/event/spring-garden-craft-show-2/
LOCATION:Stanly Arts Guild & Gallery\, 152 West Main St.\, Albemarle\, NC\, 28001
CATEGORIES:Stanly Arts Guild,Crafts and Arts
ATTACH;FMTTYPE=image/jpeg:https://stanlycountyartscouncil.org/wp-content/uploads/2026/01/Spring-Garden-Web-Featured.jpg
ORGANIZER;CN="Stanly Arts Guild":MAILTO:stanlyartsguild19@gmail.com
END:VEVENT
BEGIN:VEVENT
DTSTART;VALUE=DATE:20260421
DTEND;VALUE=DATE:20260608
DTSTAMP:20260424T032713
CREATED:20260203T214300Z
LAST-MODIFIED:20260203T215851Z
UID:10000461-1776729600-1780876799@stanlycountyartscouncil.org
SUMMARY:Stanly Arts Guild presents Spring Garden Craft Show
DESCRIPTION:After those cold winter days\, we are just jumping at the chance to beautify our yards and enjoy being outside. Our customers love being able to shop for unique art for their patios\, decks and yards. \nVendors are invited to sell their beautiful yard art creations so everyone can add what they like best to their yard\, garden\, porch\, deck\, camper\, wherever they want to decorate nature! Come by The Stanly Arts Guild store from this spring to see what you might find. \n  \n \n 
URL:https://stanlycountyartscouncil.org/event/spring-garden-craft-show/
LOCATION:Stanly Arts Guild & Gallery\, 152 West Main St.\, Albemarle\, NC\, 28001
CATEGORIES:Stanly Arts Guild,Crafts and Arts
ATTACH;FMTTYPE=image/png:https://stanlycountyartscouncil.org/wp-content/uploads/2026/01/Spring-Garden-Web-Featured.png
ORGANIZER;CN="Stanly Arts Guild":MAILTO:stanlyartsguild19@gmail.com
END:VEVENT
BEGIN:VEVENT
DTSTART;VALUE=DATE:20260421
DTEND;VALUE=DATE:20260608
DTSTAMP:20260424T032713
CREATED:20260203T214704Z
LAST-MODIFIED:20260203T215827Z
UID:10000460-1776729600-1780876799@stanlycountyartscouncil.org
SUMMARY:Stanly Arts Guild presents High School Art Shows
DESCRIPTION:Each year\, the Stanly Arts Guild works with the local high school art teachers in Stanly County to host shows for the many talented students enrolled in their classes. This includes private\, as well as public\, high schools. The teachers and students get involved in setting up the shows that showcase and encourage the emerging talent we have in Stanly county. The shows are typically 1-2 weeks in length for each school\, with a reception for the students & their families at the end of the show. There are no prizes awarded but there may be a graduating senior whose work is showcased for some schools. In these shows every entry is a winner\, but the big winners are those of us viewing the show\, as the talent and imagination of these young artists are truly amazing. \nIf you are a high school art teacher and would like to arrange dates to showcase the talent of your students\, please contact our Art Show Coordinator at The Stanly Arts Guild:\nAttn: SAG Art Show Coordinator\nstanlyartsguild19@gmail.com \n 
URL:https://stanlycountyartscouncil.org/event/high-school-art-shows/
LOCATION:Stanly Arts Guild & Gallery\, 152 West Main St.\, Albemarle\, NC\, 28001
CATEGORIES:Stanly Arts Guild
ATTACH;FMTTYPE=image/png:https://stanlycountyartscouncil.org/wp-content/uploads/2026/01/High-School-Web-Featured.png
ORGANIZER;CN="Stanly Arts Guild":MAILTO:stanlyartsguild19@gmail.com
END:VEVENT
BEGIN:VEVENT
DTSTART;TZID=America/New_York:20260424T193000
DTEND;TZID=America/New_York:20260424T213000
DTSTAMP:20260424T032713
CREATED:20260413T212609Z
LAST-MODIFIED:20260413T212609Z
UID:10000490-1777059000-1777066200@stanlycountyartscouncil.org
SUMMARY:The Uwharrie Players presents Now and Then
DESCRIPTION:Sometimes what happens after last call just might change your life. One night in 1981\, just as Jamie is closing the bar where he works\, a desperate last-minute customer offers him and his girlfriend Abby two thousand dollars to sit and have a drink with him. Who wouldn’t take it? As the trio swaps stories and Jamie considers the decisions he faces about his musical career and his future with his girlfriend Abby\, the young couple begins to realize that this older man is unusually invested in their choices… and the reason he gives them is completely unbelievable. But when a very displeased second stranger arrives\, the unbelievable begins to look like it just might be true. Now and Then is a heartfelt romantic comedy about the costs of the choices we make\, and the people who make them with us. \n 
URL:https://stanlycountyartscouncil.org/event/the-uwharrie-players-presents-now-and-then-3/
LOCATION:Albemarle Neighborhood Theatre\, 219 E. North Street\, Albemarle\, NC\, 28001
CATEGORIES:Theatre,Comedy,Uwharrie Players
ATTACH;FMTTYPE=image/png:https://stanlycountyartscouncil.org/wp-content/uploads/2026/04/1000007625-1-e1776115304137.png
ORGANIZER;CN="The Uwharrie Players":MAILTO:info@theuwharrieplayers.org
END:VEVENT
END:VCALENDAR