BEGIN:VCALENDAR
VERSION:2.0
PRODID:-//Stanly County Arts Council - ECPv6.15.12.2//NONSGML v1.0//EN
CALSCALE:GREGORIAN
METHOD:PUBLISH
X-WR-CALNAME:Stanly County Arts Council
X-ORIGINAL-URL:https://stanlycountyartscouncil.org
X-WR-CALDESC:Events for Stanly County Arts Council
REFRESH-INTERVAL;VALUE=DURATION:PT1H
X-Robots-Tag:noindex
X-PUBLISHED-TTL:PT1H
BEGIN:VTIMEZONE
TZID:America/New_York
BEGIN:DAYLIGHT
TZOFFSETFROM:-0500
TZOFFSETTO:-0400
TZNAME:EDT
DTSTART:20240310T070000
END:DAYLIGHT
BEGIN:STANDARD
TZOFFSETFROM:-0400
TZOFFSETTO:-0500
TZNAME:EST
DTSTART:20241103T060000
END:STANDARD
BEGIN:DAYLIGHT
TZOFFSETFROM:-0500
TZOFFSETTO:-0400
TZNAME:EDT
DTSTART:20250309T070000
END:DAYLIGHT
BEGIN:STANDARD
TZOFFSETFROM:-0400
TZOFFSETTO:-0500
TZNAME:EST
DTSTART:20251102T060000
END:STANDARD
BEGIN:DAYLIGHT
TZOFFSETFROM:-0500
TZOFFSETTO:-0400
TZNAME:EDT
DTSTART:20260308T070000
END:DAYLIGHT
BEGIN:STANDARD
TZOFFSETFROM:-0400
TZOFFSETTO:-0500
TZNAME:EST
DTSTART:20261101T060000
END:STANDARD
END:VTIMEZONE
BEGIN:VEVENT
DTSTART;TZID=America/New_York:20250405T190000
DTEND;TZID=America/New_York:20250405T200000
DTSTAMP:20260421T094206
CREATED:20241230T160540Z
LAST-MODIFIED:20250128T154148Z
UID:10000344-1743879600-1743883200@stanlycountyartscouncil.org
SUMMARY:A Night at the Tonys: Broadway's Best!
DESCRIPTION:The Stanly County Chorale will present music from over 50 years of Tony award-winning Broadway musicals.
URL:https://stanlycountyartscouncil.org/event/a-night-at-the-tonys-broadways-best-2/
LOCATION:Albemarle High School Auditorium\, 311 Park Ridge Road\, Albemarle\, NC\, 28001\, United States
CATEGORIES:Musical Theatre,Stanly County Chorale,Music
ATTACH;FMTTYPE=image/png:https://stanlycountyartscouncil.org/wp-content/uploads/2025/01/Broadway-poster-e1738078835253.png
ORGANIZER;CN="Stanly County Chorale":MAILTO:info@stanlychorale.org
END:VEVENT
BEGIN:VEVENT
DTSTART;TZID=America/New_York:20250406T150000
DTEND;TZID=America/New_York:20250406T160000
DTSTAMP:20260421T094206
CREATED:20241230T160431Z
LAST-MODIFIED:20250128T154359Z
UID:10000345-1743951600-1743955200@stanlycountyartscouncil.org
SUMMARY:A Night at the Tonys: Broadway's Best!
DESCRIPTION:The Stanly County Chorale will present music from over 50 years of Tony award-winning Broadway musicals.
URL:https://stanlycountyartscouncil.org/event/a-night-at-the-tonys-broadways-best/
LOCATION:Albemarle High School Auditorium\, 311 Park Ridge Road\, Albemarle\, NC\, 28001\, United States
CATEGORIES:Stanly County Chorale,Musical Theatre
ATTACH;FMTTYPE=image/png:https://stanlycountyartscouncil.org/wp-content/uploads/2025/01/Broadway-poster-e1738078835253.png
ORGANIZER;CN="Stanly County Chorale":MAILTO:info@stanlychorale.org
END:VEVENT
END:VCALENDAR