BEGIN:VCALENDAR
VERSION:2.0
PRODID:-//Stanly County Arts Council - ECPv6.15.12.2//NONSGML v1.0//EN
CALSCALE:GREGORIAN
METHOD:PUBLISH
X-ORIGINAL-URL:https://stanlycountyartscouncil.org
X-WR-CALDESC:Events for Stanly County Arts Council
REFRESH-INTERVAL;VALUE=DURATION:PT1H
X-Robots-Tag:noindex
X-PUBLISHED-TTL:PT1H
BEGIN:VTIMEZONE
TZID:America/New_York
BEGIN:DAYLIGHT
TZOFFSETFROM:-0500
TZOFFSETTO:-0400
TZNAME:EDT
DTSTART:20240310T070000
END:DAYLIGHT
BEGIN:STANDARD
TZOFFSETFROM:-0400
TZOFFSETTO:-0500
TZNAME:EST
DTSTART:20241103T060000
END:STANDARD
BEGIN:DAYLIGHT
TZOFFSETFROM:-0500
TZOFFSETTO:-0400
TZNAME:EDT
DTSTART:20250309T070000
END:DAYLIGHT
BEGIN:STANDARD
TZOFFSETFROM:-0400
TZOFFSETTO:-0500
TZNAME:EST
DTSTART:20251102T060000
END:STANDARD
BEGIN:DAYLIGHT
TZOFFSETFROM:-0500
TZOFFSETTO:-0400
TZNAME:EDT
DTSTART:20260308T070000
END:DAYLIGHT
BEGIN:STANDARD
TZOFFSETFROM:-0400
TZOFFSETTO:-0500
TZNAME:EST
DTSTART:20261101T060000
END:STANDARD
END:VTIMEZONE
BEGIN:VEVENT
DTSTART;TZID=America/New_York:20250508T193000
DTEND;TZID=America/New_York:20250508T203000
DTSTAMP:20260421T080451
CREATED:20250414T185949Z
LAST-MODIFIED:20250428T152434Z
UID:10000361-1746732600-1746736200@stanlycountyartscouncil.org
SUMMARY:A Night at the Tonys: Broadway's Best!
DESCRIPTION:The Stanly County Chorale will present an encore performance of their spring concert for the “Thursdays at the Station” concert series at Market Station in Albemarle.  A Night at the Tonys:  Broadway’s Best! showcases music from over 50 years of Tony award-winning Broadway musicals. \n 
URL:https://stanlycountyartscouncil.org/event/a-night-at-the-tonys-broadways-best-3/
LOCATION:Market Station\, 501 W. Main St\, Albemarle\, N\, 28001\, United States
CATEGORIES:Albemarle Parks & Rec,Musical Theatre,Stanly County Chorale
ATTACH;FMTTYPE=image/png:https://stanlycountyartscouncil.org/wp-content/uploads/2025/01/Broadway-poster-e1738078835253.png
ORGANIZER;CN="Stanly County Chorale":MAILTO:info@stanlychorale.org
END:VEVENT
END:VCALENDAR