BEGIN:VCALENDAR
VERSION:2.0
PRODID:-//Stanly County Arts Council - ECPv6.15.12.2//NONSGML v1.0//EN
CALSCALE:GREGORIAN
METHOD:PUBLISH
X-ORIGINAL-URL:https://stanlycountyartscouncil.org
X-WR-CALDESC:Events for Stanly County Arts Council
REFRESH-INTERVAL;VALUE=DURATION:PT1H
X-Robots-Tag:noindex
X-PUBLISHED-TTL:PT1H
BEGIN:VTIMEZONE
TZID:America/New_York
BEGIN:DAYLIGHT
TZOFFSETFROM:-0500
TZOFFSETTO:-0400
TZNAME:EDT
DTSTART:20230312T070000
END:DAYLIGHT
BEGIN:STANDARD
TZOFFSETFROM:-0400
TZOFFSETTO:-0500
TZNAME:EST
DTSTART:20231105T060000
END:STANDARD
BEGIN:DAYLIGHT
TZOFFSETFROM:-0500
TZOFFSETTO:-0400
TZNAME:EDT
DTSTART:20240310T070000
END:DAYLIGHT
BEGIN:STANDARD
TZOFFSETFROM:-0400
TZOFFSETTO:-0500
TZNAME:EST
DTSTART:20241103T060000
END:STANDARD
BEGIN:DAYLIGHT
TZOFFSETFROM:-0500
TZOFFSETTO:-0400
TZNAME:EDT
DTSTART:20250309T070000
END:DAYLIGHT
BEGIN:STANDARD
TZOFFSETFROM:-0400
TZOFFSETTO:-0500
TZNAME:EST
DTSTART:20251102T060000
END:STANDARD
END:VTIMEZONE
BEGIN:VEVENT
DTSTART;TZID=America/New_York:20240327T080000
DTEND;TZID=America/New_York:20240831T170000
DTSTAMP:20260425T200330
CREATED:20240504T142411Z
LAST-MODIFIED:20240504T142411Z
UID:10000298-1711526400-1725123600@stanlycountyartscouncil.org
SUMMARY:50 Years of Cultivating Creativity - Exhibit @ Stanly County History Center
DESCRIPTION:In celebration of the 50th Anniversary of the Stanly County Arts Council\, come explore the new\, free exhibit at the Stanly County History Center\, showcasing the best of the arts in Stanly County. \n\nLearn the history of the Stanly County Arts Council\, including its special programming and grant opportunities for organizations and individuals\, the Cultural Education Program\, and more.\nCaptivating exhibits from each arts organization that receives funding and promotion from the Stanly County Arts Council and ensures that the citizens have many arts opportunities to enjoy\, including: The Stanly Arts Guild\, The Stanly County Chorale\, The Stanly County Concert Association\, The Stanly County Concert Band\, The Talent Company\, The Uwharrie Players\, and Uwharrie Youth Arts/City Youth Ballet.\nCheck out the Success Stories that highlight artists from Stanly County that have pursued their passion successfully!\nSpecial exhibit on loan from the NC Music Hall of Fame with Stanly County’s very own inductees Lou Donaldson and Kellie Pickler.\nBanners showing the winning artwork for the 50th anniversary Bookmark Contest\, Kindergarten – High School.\n\nDo you have a group interested in a personal tour? Contact Megan Sullivan\, Museum Director to schedule. Phone: 704-986-3777 or click here to email Megan.
URL:https://stanlycountyartscouncil.org/event/50-years-of-cultivating-creativity-exhibit-stanly-county-history-center/
LOCATION:Stanly County History Center\, 157 N. 1st St.\, Albemarle\, 28001
CATEGORIES:Stanly County Concert Band,Uwharrie Players,Student Art Show,Stanly County Concert Association,The Talent Company,Stanly County Chorale,City Youth Ballet,Uwharrie Youth Arts,Stanly County History Center,Stanly County Museum,Various Arts,Stanly Arts Guild,Stanly County Historical Society
ATTACH;FMTTYPE=image/jpeg:https://stanlycountyartscouncil.org/wp-content/uploads/2024/05/Please-join-us-as-we-celebrate-22-x-28-in-scaled-e1714830589271.jpg
ORGANIZER;CN="Stanly County Arts Council":MAILTO:stanlycountyartscouncil1974@gmail.com
END:VEVENT
BEGIN:VEVENT
DTSTART;TZID=America/New_York:20240412T193000
DTEND;TZID=America/New_York:20240412T213000
DTSTAMP:20260425T200330
CREATED:20240409T144223Z
LAST-MODIFIED:20240409T144223Z
UID:10000280-1712950200-1712957400@stanlycountyartscouncil.org
SUMMARY:The Uwharrie Players presents "Southern Fried Nuptials"
DESCRIPTION:Harlene Frye is going to marry her childhood sweetheart this weekend . . . assuming the typical Frye family hijinks don’t derail the wedding! Harlene and Attie’s future together is threatened when the bride-to-be’s awful ex-flame shows up with information she doesn’t want her fiancé finding out. And Harlene’s not the only Frye keeping secrets: Sammy Jo refuses to tell her family she’s moving even though all her bags are already packed. As if that isn’t enough\, Dewey can’t figure out why people keep on asking him to give his sister away and busybody Ozella Meeks has somehow ended up as the wedding coordinator. Will the Fryes be able to get Harlene down the aisle in one piece? A bighearted comedy about family—Southern-style.​
URL:https://stanlycountyartscouncil.org/event/the-uwharrie-players-presents-southern-fried-nuptials-3/
LOCATION:Albemarle Neighborhood Theatre\, 219 E. North Street\, Albemarle\, NC\, 28001
CATEGORIES:Theatre,Comedy,Uwharrie Players
ATTACH;FMTTYPE=image/png:https://stanlycountyartscouncil.org/wp-content/uploads/2024/04/SFN-Banner.png
ORGANIZER;CN="The Uwharrie Players":MAILTO:info@theuwharrieplayers.org
END:VEVENT
BEGIN:VEVENT
DTSTART;TZID=America/New_York:20240413T193000
DTEND;TZID=America/New_York:20240413T213000
DTSTAMP:20260425T200330
CREATED:20240409T144114Z
LAST-MODIFIED:20240409T144114Z
UID:10000279-1713036600-1713043800@stanlycountyartscouncil.org
SUMMARY:The Uwharrie Players presents "Southern Fried Nuptials"
DESCRIPTION:Harlene Frye is going to marry her childhood sweetheart this weekend . . . assuming the typical Frye family hijinks don’t derail the wedding! Harlene and Attie’s future together is threatened when the bride-to-be’s awful ex-flame shows up with information she doesn’t want her fiancé finding out. And Harlene’s not the only Frye keeping secrets: Sammy Jo refuses to tell her family she’s moving even though all her bags are already packed. As if that isn’t enough\, Dewey can’t figure out why people keep on asking him to give his sister away and busybody Ozella Meeks has somehow ended up as the wedding coordinator. Will the Fryes be able to get Harlene down the aisle in one piece? A bighearted comedy about family—Southern-style.​
URL:https://stanlycountyartscouncil.org/event/the-uwharrie-players-presents-southern-fried-nuptials-2/
LOCATION:Albemarle Neighborhood Theatre\, 219 E. North Street\, Albemarle\, NC\, 28001
CATEGORIES:Theatre,Uwharrie Players
ATTACH;FMTTYPE=image/png:https://stanlycountyartscouncil.org/wp-content/uploads/2024/04/SFN-Banner.png
ORGANIZER;CN="The Uwharrie Players":MAILTO:info@theuwharrieplayers.org
END:VEVENT
BEGIN:VEVENT
DTSTART;TZID=America/New_York:20240414T150000
DTEND;TZID=America/New_York:20240414T170000
DTSTAMP:20260425T200330
CREATED:20240409T144309Z
LAST-MODIFIED:20240409T144309Z
UID:10000281-1713106800-1713114000@stanlycountyartscouncil.org
SUMMARY:The Uwharrie Players presents "Southern Fried Nuptials"
DESCRIPTION:Harlene Frye is going to marry her childhood sweetheart this weekend . . . assuming the typical Frye family hijinks don’t derail the wedding! Harlene and Attie’s future together is threatened when the bride-to-be’s awful ex-flame shows up with information she doesn’t want her fiancé finding out. And Harlene’s not the only Frye keeping secrets: Sammy Jo refuses to tell her family she’s moving even though all her bags are already packed. As if that isn’t enough\, Dewey can’t figure out why people keep on asking him to give his sister away and busybody Ozella Meeks has somehow ended up as the wedding coordinator. Will the Fryes be able to get Harlene down the aisle in one piece? A bighearted comedy about family—Southern-style.​
URL:https://stanlycountyartscouncil.org/event/the-uwharrie-players-presents-southern-fried-nuptials-4/
LOCATION:Albemarle Neighborhood Theatre\, 219 E. North Street\, Albemarle\, NC\, 28001
CATEGORIES:Theatre,Uwharrie Players
ATTACH;FMTTYPE=image/png:https://stanlycountyartscouncil.org/wp-content/uploads/2024/04/SFN-Banner.png
ORGANIZER;CN="The Uwharrie Players":MAILTO:info@theuwharrieplayers.org
END:VEVENT
END:VCALENDAR