BEGIN:VCALENDAR
VERSION:2.0
PRODID:-//Stanly County Arts Council - ECPv6.15.12.2//NONSGML v1.0//EN
CALSCALE:GREGORIAN
METHOD:PUBLISH
X-ORIGINAL-URL:https://stanlycountyartscouncil.org
X-WR-CALDESC:Events for Stanly County Arts Council
REFRESH-INTERVAL;VALUE=DURATION:PT1H
X-Robots-Tag:noindex
X-PUBLISHED-TTL:PT1H
BEGIN:VTIMEZONE
TZID:America/New_York
BEGIN:DAYLIGHT
TZOFFSETFROM:-0500
TZOFFSETTO:-0400
TZNAME:EDT
DTSTART:20230312T070000
END:DAYLIGHT
BEGIN:STANDARD
TZOFFSETFROM:-0400
TZOFFSETTO:-0500
TZNAME:EST
DTSTART:20231105T060000
END:STANDARD
BEGIN:DAYLIGHT
TZOFFSETFROM:-0500
TZOFFSETTO:-0400
TZNAME:EDT
DTSTART:20240310T070000
END:DAYLIGHT
BEGIN:STANDARD
TZOFFSETFROM:-0400
TZOFFSETTO:-0500
TZNAME:EST
DTSTART:20241103T060000
END:STANDARD
BEGIN:DAYLIGHT
TZOFFSETFROM:-0500
TZOFFSETTO:-0400
TZNAME:EDT
DTSTART:20250309T070000
END:DAYLIGHT
BEGIN:STANDARD
TZOFFSETFROM:-0400
TZOFFSETTO:-0500
TZNAME:EST
DTSTART:20251102T060000
END:STANDARD
END:VTIMEZONE
BEGIN:VEVENT
DTSTART;TZID=America/New_York:20240327T080000
DTEND;TZID=America/New_York:20240831T170000
DTSTAMP:20260425T151543
CREATED:20240504T142411Z
LAST-MODIFIED:20240504T142411Z
UID:10000298-1711526400-1725123600@stanlycountyartscouncil.org
SUMMARY:50 Years of Cultivating Creativity - Exhibit @ Stanly County History Center
DESCRIPTION:In celebration of the 50th Anniversary of the Stanly County Arts Council\, come explore the new\, free exhibit at the Stanly County History Center\, showcasing the best of the arts in Stanly County. \n\nLearn the history of the Stanly County Arts Council\, including its special programming and grant opportunities for organizations and individuals\, the Cultural Education Program\, and more.\nCaptivating exhibits from each arts organization that receives funding and promotion from the Stanly County Arts Council and ensures that the citizens have many arts opportunities to enjoy\, including: The Stanly Arts Guild\, The Stanly County Chorale\, The Stanly County Concert Association\, The Stanly County Concert Band\, The Talent Company\, The Uwharrie Players\, and Uwharrie Youth Arts/City Youth Ballet.\nCheck out the Success Stories that highlight artists from Stanly County that have pursued their passion successfully!\nSpecial exhibit on loan from the NC Music Hall of Fame with Stanly County’s very own inductees Lou Donaldson and Kellie Pickler.\nBanners showing the winning artwork for the 50th anniversary Bookmark Contest\, Kindergarten – High School.\n\nDo you have a group interested in a personal tour? Contact Megan Sullivan\, Museum Director to schedule. Phone: 704-986-3777 or click here to email Megan.
URL:https://stanlycountyartscouncil.org/event/50-years-of-cultivating-creativity-exhibit-stanly-county-history-center/
LOCATION:Stanly County History Center\, 157 N. 1st St.\, Albemarle\, 28001
CATEGORIES:Stanly County Museum,Various Arts,Stanly Arts Guild,Stanly County Historical Society,Stanly County Concert Band,Uwharrie Players,Student Art Show,Stanly County Concert Association,The Talent Company,Stanly County Chorale,City Youth Ballet,Uwharrie Youth Arts,Stanly County History Center
ATTACH;FMTTYPE=image/jpeg:https://stanlycountyartscouncil.org/wp-content/uploads/2024/05/Please-join-us-as-we-celebrate-22-x-28-in-scaled-e1714830589271.jpg
ORGANIZER;CN="Stanly County Arts Council":MAILTO:stanlycountyartscouncil1974@gmail.com
END:VEVENT
BEGIN:VEVENT
DTSTART;TZID=America/New_York:20240726T193000
DTEND;TZID=America/New_York:20240726T213000
DTSTAMP:20260425T151543
CREATED:20240711T154506Z
LAST-MODIFIED:20240711T163116Z
UID:10000307-1722022200-1722029400@stanlycountyartscouncil.org
SUMMARY:The Uwharrie Players presents "The Addams Family"
DESCRIPTION:The Addams Family:  A New Musical\nBook by Marshall Brickman and Rick Elice\nMusic and Lyrics by Andrew Lippa\nOrchestrations by Larry Hochman\n​Based on Characters Created by Charles Addams\n\nDirector – Heather Wilson-Bowlby\nMusic Director – Angela Moore\nChoreographer – Donna K. Owens\n\nStanly County Agri-Civic Center\nJuly 26\, 27 and August 2\, 3\, 2024 at 7:30pm\nJuly 28 and August 4\, 2024 at 3:00pm\n\nTHE ADDAMS FAMILY\, a comical feast that embraces the wackiness in every family\, features an original story and it’s every father’s nightmare: Wednesday Addams\, the ultimate princess of darkness\, has grown up and fallen in love with a sweet\, smart young man from a respectable family– a man her parents have never met. And if that wasn’t upsetting enough\, Wednesday confides in her father and begs him not to tell her mother. Now\, Gomez Addams must do something he’s never done before– keep a secret from his beloved wife\, Morticia. Everything will change for the whole family on the fateful night they host a dinner for Wednesday’s “normal” boyfriend and his parents.\n\nSpecial Ticket Promotion:\nSaturday\, July 27 – Buy One Get One Night!\nOffer available at the door and online using discount code ADDAMSBOGO at checkout.\n​The free ticket will be the one of equal or lesser value among the tickets purchased together. \n 
URL:https://stanlycountyartscouncil.org/event/uwharrie-players-presents-the-addams-family/
LOCATION:Stanly County Agri-Civic Center\, 26032 Newt Rd # B\, Albemarle\, NC
CATEGORIES:Theatre,Uwharrie Players,Musical Theatre
ATTACH;FMTTYPE=image/png:https://stanlycountyartscouncil.org/wp-content/uploads/2024/07/Addams-Poster-3-e1720712383593.png
ORGANIZER;CN="The Uwharrie Players":MAILTO:info@theuwharrieplayers.org
END:VEVENT
BEGIN:VEVENT
DTSTART;TZID=America/New_York:20240727T193000
DTEND;TZID=America/New_York:20240727T213000
DTSTAMP:20260425T151543
CREATED:20240711T154637Z
LAST-MODIFIED:20240711T163039Z
UID:10000308-1722108600-1722115800@stanlycountyartscouncil.org
SUMMARY:The Uwharrie Players presents "The Addams Family"
DESCRIPTION:The Addams Family:  \nA New Musical\nBook by Marshall Brickman and Rick Elice\nMusic and Lyrics by Andrew Lippa\nOrchestrations by Larry Hochman\n​Based on Characters Created by Charles Addams\n\nDirector – Heather Wilson-Bowlby\nMusic Director – Angela Moore\nChoreographer – Donna K. Owens\n\nStanly County Agri-Civic Center\nJuly 26\, 27 and August 2\, 3\, 2024 at 7:30pm\nJuly 28 and August 4\, 2024 at 3:00pm \n\nSpecial Ticket Promotion:\nSaturday\, July 27 – Buy One Get One Night!\nOffer available at the door and online using discount code ADDAMSBOGO at checkout.\n​The free ticket will be the one of equal or lesser value among the tickets purchased together. \n\n\nTHE ADDAMS FAMILY\, a comical feast that embraces the wackiness in every family\, features an original story and it’s every father’s nightmare: Wednesday Addams\, the ultimate princess of darkness\, has grown up and fallen in love with a sweet\, smart young man from a respectable family– a man her parents have never met. And if that wasn’t upsetting enough\, Wednesday confides in her father and begs him not to tell her mother. Now\, Gomez Addams must do something he’s never done before– keep a secret from his beloved wife\, Morticia. Everything will change for the whole family on the fateful night they host a dinner for Wednesday’s “normal” boyfriend and his parents.\n\n 
URL:https://stanlycountyartscouncil.org/event/the-uwharrie-players-presents-the-addams-family/
LOCATION:Stanly County Agri-Civic Center\, 26032 Newt Rd # B\, Albemarle\, NC
CATEGORIES:Theatre,Uwharrie Players,Musical Theatre
ATTACH;FMTTYPE=image/png:https://stanlycountyartscouncil.org/wp-content/uploads/2024/07/Addams-Poster-3-e1720712383593.png
ORGANIZER;CN="The Uwharrie Players":MAILTO:info@theuwharrieplayers.org
END:VEVENT
BEGIN:VEVENT
DTSTART;TZID=America/New_York:20240728T150000
DTEND;TZID=America/New_York:20240728T170000
DTSTAMP:20260425T151543
CREATED:20240711T155016Z
LAST-MODIFIED:20240711T162900Z
UID:10000312-1722178800-1722186000@stanlycountyartscouncil.org
SUMMARY:The Uwharrie Players presents "The Addams Family"
DESCRIPTION:The Addams Family:  \nA New Musical\nBook by Marshall Brickman and Rick Elice\nMusic and Lyrics by Andrew Lippa\nOrchestrations by Larry Hochman\n​Based on Characters Created by Charles Addams\n\nDirector – Heather Wilson-Bowlby\nMusic Director – Angela Moore\nChoreographer – Donna K. Owens\n\nStanly County Agri-Civic Center\nJuly 26\, 27 and August 2\, 3\, 2024 at 7:30pm\nJuly 28 and August 4\, 2024 at 3:00pm \n\n\nTHE ADDAMS FAMILY\, a comical feast that embraces the wackiness in every family\, features an original story and it’s every father’s nightmare: Wednesday Addams\, the ultimate princess of darkness\, has grown up and fallen in love with a sweet\, smart young man from a respectable family– a man her parents have never met. And if that wasn’t upsetting enough\, Wednesday confides in her father and begs him not to tell her mother. Now\, Gomez Addams must do something he’s never done before– keep a secret from his beloved wife\, Morticia. Everything will change for the whole family on the fateful night they host a dinner for Wednesday’s “normal” boyfriend and his parents.\n\n 
URL:https://stanlycountyartscouncil.org/event/the-uwharrie-players-presents-the-addams-family-5/
LOCATION:Stanly County Agri-Civic Center\, 26032 Newt Rd # B\, Albemarle\, NC
CATEGORIES:Theatre,Uwharrie Players,Musical Theatre
ATTACH;FMTTYPE=image/png:https://stanlycountyartscouncil.org/wp-content/uploads/2024/07/Addams-Poster-3-e1720712383593.png
ORGANIZER;CN="The Uwharrie Players":MAILTO:info@theuwharrieplayers.org
END:VEVENT
END:VCALENDAR