BEGIN:VCALENDAR
VERSION:2.0
PRODID:-//Stanly County Arts Council - ECPv6.15.12.2//NONSGML v1.0//EN
CALSCALE:GREGORIAN
METHOD:PUBLISH
X-WR-CALNAME:Stanly County Arts Council
X-ORIGINAL-URL:https://stanlycountyartscouncil.org
X-WR-CALDESC:Events for Stanly County Arts Council
REFRESH-INTERVAL;VALUE=DURATION:PT1H
X-Robots-Tag:noindex
X-PUBLISHED-TTL:PT1H
BEGIN:VTIMEZONE
TZID:America/New_York
BEGIN:DAYLIGHT
TZOFFSETFROM:-0500
TZOFFSETTO:-0400
TZNAME:EDT
DTSTART:20240310T070000
END:DAYLIGHT
BEGIN:STANDARD
TZOFFSETFROM:-0400
TZOFFSETTO:-0500
TZNAME:EST
DTSTART:20241103T060000
END:STANDARD
BEGIN:DAYLIGHT
TZOFFSETFROM:-0500
TZOFFSETTO:-0400
TZNAME:EDT
DTSTART:20250309T070000
END:DAYLIGHT
BEGIN:STANDARD
TZOFFSETFROM:-0400
TZOFFSETTO:-0500
TZNAME:EST
DTSTART:20251102T060000
END:STANDARD
BEGIN:DAYLIGHT
TZOFFSETFROM:-0500
TZOFFSETTO:-0400
TZNAME:EDT
DTSTART:20260308T070000
END:DAYLIGHT
BEGIN:STANDARD
TZOFFSETFROM:-0400
TZOFFSETTO:-0500
TZNAME:EST
DTSTART:20261101T060000
END:STANDARD
BEGIN:DAYLIGHT
TZOFFSETFROM:-0500
TZOFFSETTO:-0400
TZNAME:EDT
DTSTART:20270314T070000
END:DAYLIGHT
BEGIN:STANDARD
TZOFFSETFROM:-0400
TZOFFSETTO:-0500
TZNAME:EST
DTSTART:20271107T060000
END:STANDARD
END:VTIMEZONE
BEGIN:VEVENT
DTSTART;TZID=America/New_York:20250405T193000
DTEND;TZID=America/New_York:20250405T213000
DTSTAMP:20260425T122935
CREATED:20250320T140244Z
LAST-MODIFIED:20250320T140509Z
UID:10000357-1743881400-1743888600@stanlycountyartscouncil.org
SUMMARY:The Uwharrie Players presents "You Can't Take It With You"
DESCRIPTION:The family of Martin Vanderhof lives “just around the corner from Columbia University—but don’t go looking for it.” Grandpa\, as Martin is more commonly known\, is the paterfamilias of a large and extended family: His daughter\, Penny\, who fancies herself a romance novelist; her husband\, Paul\, an amateur fireworks expert; their daughter\, Alice\, an attractive and loving girl who is still embarrassed by her family’s eccentricities—which include a xylophone player/leftist leaflet printer\, an untalented ballerina\, a couple on relief\, and a ballet master exiled from Soviet Russia. When Alice falls for her boss\, Tony\, a handsome scion of Wall Street\, she fears that their two families—so unlike in manner\, politics\, and finances—will never come together. During a disastrous dinner party\, Alice’s worst fears are confirmed. Her prospective in-laws are humiliated in a party game\, fireworks explode in the basement\, and the house is raided by the FBI. Frustrated and upset\, Alice intends to run away to the country\, until Grandpa and Co.—playing the role of Cupid—manage not only to bring the happy couple together\, but to set Tony’s father straight about the true priorities in life. After all\, why be obsessed by money? You can’t take it with you… \n  \nTicket Prices:  $15 for JR/SR\, $20 for Adults \nSaturday\, April 5 – Buy One Get One Night!\nOffer available at the door and online using discount code FIRECRACKER at checkout.\n​The free ticket will be the one of equal or lesser value among the tickets purchased together.  \n 
URL:https://stanlycountyartscouncil.org/event/the-uwharrie-players-presents-you-cant-take-it-with-you-2/
LOCATION:Albemarle Neighborhood Theatre\, 219 E. North Street\, Albemarle\, NC\, 28001
CATEGORIES:Theatre,Comedy,Uwharrie Players
ATTACH;FMTTYPE=image/png:https://stanlycountyartscouncil.org/wp-content/uploads/2025/03/YCTIWY-poster-letter-size-e1742478938505.png
ORGANIZER;CN="The Uwharrie Players":MAILTO:info@theuwharrieplayers.org
END:VEVENT
BEGIN:VEVENT
DTSTART;TZID=America/New_York:20250406T150000
DTEND;TZID=America/New_York:20250406T170000
DTSTAMP:20260425T122935
CREATED:20250320T140758Z
LAST-MODIFIED:20250320T140758Z
UID:10000354-1743951600-1743958800@stanlycountyartscouncil.org
SUMMARY:The Uwharrie Players presents "You Can't Take It With You"
DESCRIPTION:The family of Martin Vanderhof lives “just around the corner from Columbia University—but don’t go looking for it.” Grandpa\, as Martin is more commonly known\, is the paterfamilias of a large and extended family: His daughter\, Penny\, who fancies herself a romance novelist; her husband\, Paul\, an amateur fireworks expert; their daughter\, Alice\, an attractive and loving girl who is still embarrassed by her family’s eccentricities—which include a xylophone player/leftist leaflet printer\, an untalented ballerina\, a couple on relief\, and a ballet master exiled from Soviet Russia. When Alice falls for her boss\, Tony\, a handsome scion of Wall Street\, she fears that their two families—so unlike in manner\, politics\, and finances—will never come together. During a disastrous dinner party\, Alice’s worst fears are confirmed. Her prospective in-laws are humiliated in a party game\, fireworks explode in the basement\, and the house is raided by the FBI. Frustrated and upset\, Alice intends to run away to the country\, until Grandpa and Co.—playing the role of Cupid—manage not only to bring the happy couple together\, but to set Tony’s father straight about the true priorities in life. After all\, why be obsessed by money? You can’t take it with you… \n  \nTicket Prices:  $15 for JR/SR\, $20 for Adults \n 
URL:https://stanlycountyartscouncil.org/event/the-uwharrie-players-presents-you-cant-take-it-with-you-5/
LOCATION:Albemarle Neighborhood Theatre\, 219 E. North Street\, Albemarle\, NC\, 28001
CATEGORIES:Theatre,Comedy,Uwharrie Players
ATTACH;FMTTYPE=image/png:https://stanlycountyartscouncil.org/wp-content/uploads/2025/03/YCTIWY-poster-letter-size-e1742478938505.png
ORGANIZER;CN="The Uwharrie Players":MAILTO:info@theuwharrieplayers.org
END:VEVENT
BEGIN:VEVENT
DTSTART;TZID=America/New_York:20250411T193000
DTEND;TZID=America/New_York:20250411T213000
DTSTAMP:20260425T122935
CREATED:20250320T140609Z
LAST-MODIFIED:20250320T140609Z
UID:10000356-1744399800-1744407000@stanlycountyartscouncil.org
SUMMARY:The Uwharrie Players presents "You Can't Take It With You"
DESCRIPTION:The family of Martin Vanderhof lives “just around the corner from Columbia University—but don’t go looking for it.” Grandpa\, as Martin is more commonly known\, is the paterfamilias of a large and extended family: His daughter\, Penny\, who fancies herself a romance novelist; her husband\, Paul\, an amateur fireworks expert; their daughter\, Alice\, an attractive and loving girl who is still embarrassed by her family’s eccentricities—which include a xylophone player/leftist leaflet printer\, an untalented ballerina\, a couple on relief\, and a ballet master exiled from Soviet Russia. When Alice falls for her boss\, Tony\, a handsome scion of Wall Street\, she fears that their two families—so unlike in manner\, politics\, and finances—will never come together. During a disastrous dinner party\, Alice’s worst fears are confirmed. Her prospective in-laws are humiliated in a party game\, fireworks explode in the basement\, and the house is raided by the FBI. Frustrated and upset\, Alice intends to run away to the country\, until Grandpa and Co.—playing the role of Cupid—manage not only to bring the happy couple together\, but to set Tony’s father straight about the true priorities in life. After all\, why be obsessed by money? You can’t take it with you… \n  \nTicket Prices:  $15 for JR/SR\, $20 for Adults \n 
URL:https://stanlycountyartscouncil.org/event/the-uwharrie-players-presents-you-cant-take-it-with-you-3/
LOCATION:Albemarle Neighborhood Theatre\, 219 E. North Street\, Albemarle\, NC\, 28001
CATEGORIES:Theatre,Comedy,Uwharrie Players
ATTACH;FMTTYPE=image/png:https://stanlycountyartscouncil.org/wp-content/uploads/2025/03/YCTIWY-poster-letter-size-e1742478938505.png
ORGANIZER;CN="The Uwharrie Players":MAILTO:info@theuwharrieplayers.org
END:VEVENT
BEGIN:VEVENT
DTSTART;TZID=America/New_York:20250412T193000
DTEND;TZID=America/New_York:20250412T213000
DTSTAMP:20260425T122935
CREATED:20250320T140652Z
LAST-MODIFIED:20250320T140652Z
UID:10000355-1744486200-1744493400@stanlycountyartscouncil.org
SUMMARY:The Uwharrie Players presents "You Can't Take It With You"
DESCRIPTION:The family of Martin Vanderhof lives “just around the corner from Columbia University—but don’t go looking for it.” Grandpa\, as Martin is more commonly known\, is the paterfamilias of a large and extended family: His daughter\, Penny\, who fancies herself a romance novelist; her husband\, Paul\, an amateur fireworks expert; their daughter\, Alice\, an attractive and loving girl who is still embarrassed by her family’s eccentricities—which include a xylophone player/leftist leaflet printer\, an untalented ballerina\, a couple on relief\, and a ballet master exiled from Soviet Russia. When Alice falls for her boss\, Tony\, a handsome scion of Wall Street\, she fears that their two families—so unlike in manner\, politics\, and finances—will never come together. During a disastrous dinner party\, Alice’s worst fears are confirmed. Her prospective in-laws are humiliated in a party game\, fireworks explode in the basement\, and the house is raided by the FBI. Frustrated and upset\, Alice intends to run away to the country\, until Grandpa and Co.—playing the role of Cupid—manage not only to bring the happy couple together\, but to set Tony’s father straight about the true priorities in life. After all\, why be obsessed by money? You can’t take it with you… \n  \nTicket Prices:  $15 for JR/SR\, $20 for Adults \n 
URL:https://stanlycountyartscouncil.org/event/the-uwharrie-players-presents-you-cant-take-it-with-you-4/
LOCATION:Albemarle Neighborhood Theatre\, 219 E. North Street\, Albemarle\, NC\, 28001
CATEGORIES:Theatre,Comedy,Uwharrie Players
ATTACH;FMTTYPE=image/png:https://stanlycountyartscouncil.org/wp-content/uploads/2025/03/YCTIWY-poster-letter-size-e1742478938505.png
ORGANIZER;CN="The Uwharrie Players":MAILTO:info@theuwharrieplayers.org
END:VEVENT
BEGIN:VEVENT
DTSTART;TZID=America/New_York:20250413T150000
DTEND;TZID=America/New_York:20250413T170000
DTSTAMP:20260425T122935
CREATED:20250320T141039Z
LAST-MODIFIED:20250320T141039Z
UID:10000358-1744556400-1744563600@stanlycountyartscouncil.org
SUMMARY:The Uwharrie Players presents "You Can't Take It With You"
DESCRIPTION:The family of Martin Vanderhof lives “just around the corner from Columbia University—but don’t go looking for it.” Grandpa\, as Martin is more commonly known\, is the paterfamilias of a large and extended family: His daughter\, Penny\, who fancies herself a romance novelist; her husband\, Paul\, an amateur fireworks expert; their daughter\, Alice\, an attractive and loving girl who is still embarrassed by her family’s eccentricities—which include a xylophone player/leftist leaflet printer\, an untalented ballerina\, a couple on relief\, and a ballet master exiled from Soviet Russia. When Alice falls for her boss\, Tony\, a handsome scion of Wall Street\, she fears that their two families—so unlike in manner\, politics\, and finances—will never come together. During a disastrous dinner party\, Alice’s worst fears are confirmed. Her prospective in-laws are humiliated in a party game\, fireworks explode in the basement\, and the house is raided by the FBI. Frustrated and upset\, Alice intends to run away to the country\, until Grandpa and Co.—playing the role of Cupid—manage not only to bring the happy couple together\, but to set Tony’s father straight about the true priorities in life. After all\, why be obsessed by money? You can’t take it with you… \n  \nTicket Prices:  $15 for JR/SR\, $20 for Adults \n 
URL:https://stanlycountyartscouncil.org/event/the-uwharrie-players-presents-you-cant-take-it-with-you-6/
LOCATION:Albemarle Neighborhood Theatre\, 219 E. North Street\, Albemarle\, NC\, 28001
CATEGORIES:Theatre,Comedy,Uwharrie Players
ATTACH;FMTTYPE=image/png:https://stanlycountyartscouncil.org/wp-content/uploads/2025/03/YCTIWY-poster-letter-size-e1742478938505.png
ORGANIZER;CN="The Uwharrie Players":MAILTO:info@theuwharrieplayers.org
END:VEVENT
BEGIN:VEVENT
DTSTART;TZID=America/New_York:20260227T190000
DTEND;TZID=America/New_York:20260227T200000
DTSTAMP:20260425T122935
CREATED:20260216T182409Z
LAST-MODIFIED:20260216T191218Z
UID:10000467-1772218800-1772222400@stanlycountyartscouncil.org
SUMMARY:The Uwharrie Players presents "The True Story of the 3 Little Pigs!" (Theatre for Young Audiences)
DESCRIPTION:There are two sides to every story\, and when the Big\, Bad Wolf takes the stand in Piggsylvania’s Trial of the Century\, he finally gets his say. But whether he’ll get a fair trial in a corrupt piggy court is anyone’s guess. Will the pigs’ splashy puppet show make a puppet out of justice\, or is the wolf’s catchy song and dance about a sneeze gone wrong all razzle-dazzle? Enter the jury box and decide the fate of Big ‘n’ Bad in this musical adaptation of the hit children’s book. \n 
URL:https://stanlycountyartscouncil.org/event/the-uhwarrie-players-presents-the-true-story-of-the-3-little-pigs-theatre-for-young-audiences/2026-02-27/
LOCATION:Albemarle Neighborhood Theatre\, 219 E. North Street\, Albemarle\, NC\, 28001
CATEGORIES:Theatre,Uwharrie Players,Musical Theatre,Children's Theatre
ATTACH;FMTTYPE=image/png:https://stanlycountyartscouncil.org/wp-content/uploads/2026/02/Pigs-Poster-smaller.png
ORGANIZER;CN="The Uwharrie Players":MAILTO:info@theuwharrieplayers.org
END:VEVENT
BEGIN:VEVENT
DTSTART;TZID=America/New_York:20260228T100000
DTEND;TZID=America/New_York:20260228T110000
DTSTAMP:20260425T122935
CREATED:20260216T182409Z
LAST-MODIFIED:20260216T191218Z
UID:10000468-1772272800-1772276400@stanlycountyartscouncil.org
SUMMARY:The Uwharrie Players presents "The True Story of the 3 Little Pigs!" (Theatre for Young Audiences)
DESCRIPTION:There are two sides to every story\, and when the Big\, Bad Wolf takes the stand in Piggsylvania’s Trial of the Century\, he finally gets his say. But whether he’ll get a fair trial in a corrupt piggy court is anyone’s guess. Will the pigs’ splashy puppet show make a puppet out of justice\, or is the wolf’s catchy song and dance about a sneeze gone wrong all razzle-dazzle? Enter the jury box and decide the fate of Big ‘n’ Bad in this musical adaptation of the hit children’s book. \n 
URL:https://stanlycountyartscouncil.org/event/the-uhwarrie-players-presents-the-true-story-of-the-3-little-pigs-theatre-for-young-audiences/2026-02-28/1/
LOCATION:Albemarle Neighborhood Theatre\, 219 E. North Street\, Albemarle\, NC\, 28001
CATEGORIES:Theatre,Uwharrie Players,Musical Theatre,Children's Theatre
ATTACH;FMTTYPE=image/png:https://stanlycountyartscouncil.org/wp-content/uploads/2026/02/Pigs-Poster-smaller.png
ORGANIZER;CN="The Uwharrie Players":MAILTO:info@theuwharrieplayers.org
END:VEVENT
BEGIN:VEVENT
DTSTART;TZID=America/New_York:20260228T150000
DTEND;TZID=America/New_York:20260228T160000
DTSTAMP:20260425T122935
CREATED:20260216T182409Z
LAST-MODIFIED:20260216T191218Z
UID:10000469-1772290800-1772294400@stanlycountyartscouncil.org
SUMMARY:The Uwharrie Players presents "The True Story of the 3 Little Pigs!" (Theatre for Young Audiences)
DESCRIPTION:There are two sides to every story\, and when the Big\, Bad Wolf takes the stand in Piggsylvania’s Trial of the Century\, he finally gets his say. But whether he’ll get a fair trial in a corrupt piggy court is anyone’s guess. Will the pigs’ splashy puppet show make a puppet out of justice\, or is the wolf’s catchy song and dance about a sneeze gone wrong all razzle-dazzle? Enter the jury box and decide the fate of Big ‘n’ Bad in this musical adaptation of the hit children’s book. \n 
URL:https://stanlycountyartscouncil.org/event/the-uhwarrie-players-presents-the-true-story-of-the-3-little-pigs-theatre-for-young-audiences/2026-02-28/2/
LOCATION:Albemarle Neighborhood Theatre\, 219 E. North Street\, Albemarle\, NC\, 28001
CATEGORIES:Theatre,Uwharrie Players,Musical Theatre,Children's Theatre
ATTACH;FMTTYPE=image/png:https://stanlycountyartscouncil.org/wp-content/uploads/2026/02/Pigs-Poster-smaller.png
ORGANIZER;CN="The Uwharrie Players":MAILTO:info@theuwharrieplayers.org
END:VEVENT
BEGIN:VEVENT
DTSTART;TZID=America/New_York:20260301T150000
DTEND;TZID=America/New_York:20260301T160000
DTSTAMP:20260425T122935
CREATED:20260216T182409Z
LAST-MODIFIED:20260216T191218Z
UID:10000470-1772377200-1772380800@stanlycountyartscouncil.org
SUMMARY:The Uwharrie Players presents "The True Story of the 3 Little Pigs!" (Theatre for Young Audiences)
DESCRIPTION:There are two sides to every story\, and when the Big\, Bad Wolf takes the stand in Piggsylvania’s Trial of the Century\, he finally gets his say. But whether he’ll get a fair trial in a corrupt piggy court is anyone’s guess. Will the pigs’ splashy puppet show make a puppet out of justice\, or is the wolf’s catchy song and dance about a sneeze gone wrong all razzle-dazzle? Enter the jury box and decide the fate of Big ‘n’ Bad in this musical adaptation of the hit children’s book. \n 
URL:https://stanlycountyartscouncil.org/event/the-uhwarrie-players-presents-the-true-story-of-the-3-little-pigs-theatre-for-young-audiences/2026-03-01/
LOCATION:Albemarle Neighborhood Theatre\, 219 E. North Street\, Albemarle\, NC\, 28001
CATEGORIES:Theatre,Uwharrie Players,Musical Theatre,Children's Theatre
ATTACH;FMTTYPE=image/png:https://stanlycountyartscouncil.org/wp-content/uploads/2026/02/Pigs-Poster-smaller.png
ORGANIZER;CN="The Uwharrie Players":MAILTO:info@theuwharrieplayers.org
END:VEVENT
BEGIN:VEVENT
DTSTART;TZID=America/New_York:20260321T090000
DTEND;TZID=America/New_York:20260321T140000
DTSTAMP:20260425T122935
CREATED:20260216T170334Z
LAST-MODIFIED:20260216T170334Z
UID:10000471-1774083600-1774101600@stanlycountyartscouncil.org
SUMMARY:Celebration of the ARTS
DESCRIPTION:A FREE event open to the public to learn more about the arts in Stanly County. \nStudent Art Show:  Come view the county-wide student art show\, showcasing the best from each elementary\, middle\, and high school in Stanly County plus work from the advertising\, graphic design\, and simulation and game animation students from Stanly Community College. A list of participants will be shared shortly. \nArtisans:  a variety of artisans will have booths demonstrating their craft as well as selling their creations.  A list of demonstrating artists will be shared shortly. \nInformation Booths:  Each arts organization will have a booth to promote their upcoming events as well as recruit new members or volunteers.  Arts-based businesses will be there selling their goods or available to answer questions about lessons\, etc.  A full list of exhibitors will be shared shortly. \nLive Performances:  Performances from choirs\, bands\, dance and theatre troupes will entertain audiences throughout the day in the auditorium as well as the lobby.  The schedule will be shared shortly. \nCreation Station:  an opportunity to create your own art to take home with you!  Learn water color techniques\, how to combine colors while creating 3D sculpture with Model Magic clay\,  create a rhythm instrument\, and more. \nLocal Authors:  Meet local authors and peruse & purchase books they have written.   A list of participating authors will be shared shortly. \nRaffles:  a chance to support the arts while taking a chance on winning great prizes \nAwards Ceremony:  at 1:45 pm we will announce the  winners of the America 250 Art Contest\, plus the 2026 Arts Person and Fine Arts Teacher of the Year!  Don’t miss it! \n  \nSpecial thanks to our sponsors: \nUwharrie Bank \nJuneberry Ridge \nCreation Station:  T.R. Lawing Realty & Atrium Health Stanly \n 
URL:https://stanlycountyartscouncil.org/event/celebration-of-the-arts-4/
LOCATION:Stanly County Agri-Civic Center\, 26032 Newt Rd # B\, Albemarle\, NC
CATEGORIES:Music,Various Arts,Stanly Arts Guild,Crafts and Arts,Stanly County Concert Band,Theatre,Uwharrie Players,Photography,Student Art Show,Stanly County Concert Association,The Talent Company,Stanly County Chorale
ATTACH;FMTTYPE=image/jpeg:https://stanlycountyartscouncil.org/wp-content/uploads/2023/01/Celebration-Logo-scaled.jpg
ORGANIZER;CN="Stanly County Arts Council":MAILTO:stanlycountyartscouncil1974@gmail.com
END:VEVENT
BEGIN:VEVENT
DTSTART;TZID=America/New_York:20260418T193000
DTEND;TZID=America/New_York:20260418T213000
DTSTAMP:20260425T122935
CREATED:20260413T212513Z
LAST-MODIFIED:20260413T212513Z
UID:10000491-1776540600-1776547800@stanlycountyartscouncil.org
SUMMARY:The Uwharrie Players presents Now and Then
DESCRIPTION:Sometimes what happens after last call just might change your life. One night in 1981\, just as Jamie is closing the bar where he works\, a desperate last-minute customer offers him and his girlfriend Abby two thousand dollars to sit and have a drink with him. Who wouldn’t take it? As the trio swaps stories and Jamie considers the decisions he faces about his musical career and his future with his girlfriend Abby\, the young couple begins to realize that this older man is unusually invested in their choices… and the reason he gives them is completely unbelievable. But when a very displeased second stranger arrives\, the unbelievable begins to look like it just might be true. Now and Then is a heartfelt romantic comedy about the costs of the choices we make\, and the people who make them with us. \nSaturday\, April 18 – Buy One Get One Night!\nOffer available at the door and online using discount code TRUTHORDARE at checkout.\n​The free ticket will be the one of equal or lesser value among the tickets purchased together.\nThis offer cannot be used in conjunction with a Season Membership pass.  \n 
URL:https://stanlycountyartscouncil.org/event/the-uwharrie-players-presents-now-and-then-2/
LOCATION:Albemarle Neighborhood Theatre\, 219 E. North Street\, Albemarle\, NC\, 28001
CATEGORIES:Comedy,Uwharrie Players
ATTACH;FMTTYPE=image/png:https://stanlycountyartscouncil.org/wp-content/uploads/2026/04/1000007625-1-e1776115304137.png
ORGANIZER;CN="The Uwharrie Players":MAILTO:info@theuwharrieplayers.org
END:VEVENT
BEGIN:VEVENT
DTSTART;TZID=America/New_York:20260419T150000
DTEND;TZID=America/New_York:20260419T170000
DTSTAMP:20260425T122935
CREATED:20260413T212755Z
LAST-MODIFIED:20260413T212755Z
UID:10000493-1776610800-1776618000@stanlycountyartscouncil.org
SUMMARY:The Uwharrie Players presents Now and Then
DESCRIPTION:Sometimes what happens after last call just might change your life. One night in 1981\, just as Jamie is closing the bar where he works\, a desperate last-minute customer offers him and his girlfriend Abby two thousand dollars to sit and have a drink with him. Who wouldn’t take it? As the trio swaps stories and Jamie considers the decisions he faces about his musical career and his future with his girlfriend Abby\, the young couple begins to realize that this older man is unusually invested in their choices… and the reason he gives them is completely unbelievable. But when a very displeased second stranger arrives\, the unbelievable begins to look like it just might be true. Now and Then is a heartfelt romantic comedy about the costs of the choices we make\, and the people who make them with us. \n 
URL:https://stanlycountyartscouncil.org/event/the-uwharrie-players-presents-now-and-then-5/
LOCATION:Albemarle Neighborhood Theatre\, 219 E. North Street\, Albemarle\, NC\, 28001
CATEGORIES:Comedy,Uwharrie Players
ATTACH;FMTTYPE=image/png:https://stanlycountyartscouncil.org/wp-content/uploads/2026/04/1000007625-1-e1776115304137.png
ORGANIZER;CN="The Uwharrie Players":MAILTO:info@theuwharrieplayers.org
END:VEVENT
BEGIN:VEVENT
DTSTART;TZID=America/New_York:20260424T193000
DTEND;TZID=America/New_York:20260424T213000
DTSTAMP:20260425T122935
CREATED:20260413T212609Z
LAST-MODIFIED:20260413T212609Z
UID:10000490-1777059000-1777066200@stanlycountyartscouncil.org
SUMMARY:The Uwharrie Players presents Now and Then
DESCRIPTION:Sometimes what happens after last call just might change your life. One night in 1981\, just as Jamie is closing the bar where he works\, a desperate last-minute customer offers him and his girlfriend Abby two thousand dollars to sit and have a drink with him. Who wouldn’t take it? As the trio swaps stories and Jamie considers the decisions he faces about his musical career and his future with his girlfriend Abby\, the young couple begins to realize that this older man is unusually invested in their choices… and the reason he gives them is completely unbelievable. But when a very displeased second stranger arrives\, the unbelievable begins to look like it just might be true. Now and Then is a heartfelt romantic comedy about the costs of the choices we make\, and the people who make them with us. \n 
URL:https://stanlycountyartscouncil.org/event/the-uwharrie-players-presents-now-and-then-3/
LOCATION:Albemarle Neighborhood Theatre\, 219 E. North Street\, Albemarle\, NC\, 28001
CATEGORIES:Theatre,Comedy,Uwharrie Players
ATTACH;FMTTYPE=image/png:https://stanlycountyartscouncil.org/wp-content/uploads/2026/04/1000007625-1-e1776115304137.png
ORGANIZER;CN="The Uwharrie Players":MAILTO:info@theuwharrieplayers.org
END:VEVENT
BEGIN:VEVENT
DTSTART;TZID=America/New_York:20260425T193000
DTEND;TZID=America/New_York:20260425T213000
DTSTAMP:20260425T122935
CREATED:20260413T212711Z
LAST-MODIFIED:20260413T212711Z
UID:10000492-1777145400-1777152600@stanlycountyartscouncil.org
SUMMARY:The Uwharrie Players presents Now and Then
DESCRIPTION:Sometimes what happens after last call just might change your life. One night in 1981\, just as Jamie is closing the bar where he works\, a desperate last-minute customer offers him and his girlfriend Abby two thousand dollars to sit and have a drink with him. Who wouldn’t take it? As the trio swaps stories and Jamie considers the decisions he faces about his musical career and his future with his girlfriend Abby\, the young couple begins to realize that this older man is unusually invested in their choices… and the reason he gives them is completely unbelievable. But when a very displeased second stranger arrives\, the unbelievable begins to look like it just might be true. Now and Then is a heartfelt romantic comedy about the costs of the choices we make\, and the people who make them with us. \n 
URL:https://stanlycountyartscouncil.org/event/the-uwharrie-players-presents-now-and-then-4/
LOCATION:Albemarle Neighborhood Theatre\, 219 E. North Street\, Albemarle\, NC\, 28001
CATEGORIES:Comedy,Uwharrie Players
ATTACH;FMTTYPE=image/png:https://stanlycountyartscouncil.org/wp-content/uploads/2026/04/1000007625-1-e1776115304137.png
ORGANIZER;CN="The Uwharrie Players":MAILTO:info@theuwharrieplayers.org
END:VEVENT
BEGIN:VEVENT
DTSTART;TZID=America/New_York:20260426T150000
DTEND;TZID=America/New_York:20260426T170000
DTSTAMP:20260425T122935
CREATED:20260413T212835Z
LAST-MODIFIED:20260413T212835Z
UID:10000494-1777215600-1777222800@stanlycountyartscouncil.org
SUMMARY:The Uwharrie Players presents Now and Then
DESCRIPTION:Sometimes what happens after last call just might change your life. One night in 1981\, just as Jamie is closing the bar where he works\, a desperate last-minute customer offers him and his girlfriend Abby two thousand dollars to sit and have a drink with him. Who wouldn’t take it? As the trio swaps stories and Jamie considers the decisions he faces about his musical career and his future with his girlfriend Abby\, the young couple begins to realize that this older man is unusually invested in their choices… and the reason he gives them is completely unbelievable. But when a very displeased second stranger arrives\, the unbelievable begins to look like it just might be true. Now and Then is a heartfelt romantic comedy about the costs of the choices we make\, and the people who make them with us. \n 
URL:https://stanlycountyartscouncil.org/event/the-uwharrie-players-presents-now-and-then-6/
LOCATION:Albemarle Neighborhood Theatre\, 219 E. North Street\, Albemarle\, NC\, 28001
CATEGORIES:Comedy,Uwharrie Players
ATTACH;FMTTYPE=image/png:https://stanlycountyartscouncil.org/wp-content/uploads/2026/04/1000007625-1-e1776115304137.png
ORGANIZER;CN="The Uwharrie Players":MAILTO:info@theuwharrieplayers.org
END:VEVENT
END:VCALENDAR