BEGIN:VCALENDAR
VERSION:2.0
PRODID:-//Stanly County Arts Council - ECPv6.15.12.2//NONSGML v1.0//EN
CALSCALE:GREGORIAN
METHOD:PUBLISH
X-WR-CALNAME:Stanly County Arts Council
X-ORIGINAL-URL:https://stanlycountyartscouncil.org
X-WR-CALDESC:Events for Stanly County Arts Council
REFRESH-INTERVAL;VALUE=DURATION:PT1H
X-Robots-Tag:noindex
X-PUBLISHED-TTL:PT1H
BEGIN:VTIMEZONE
TZID:America/New_York
BEGIN:DAYLIGHT
TZOFFSETFROM:-0500
TZOFFSETTO:-0400
TZNAME:EDT
DTSTART:20230312T070000
END:DAYLIGHT
BEGIN:STANDARD
TZOFFSETFROM:-0400
TZOFFSETTO:-0500
TZNAME:EST
DTSTART:20231105T060000
END:STANDARD
BEGIN:DAYLIGHT
TZOFFSETFROM:-0500
TZOFFSETTO:-0400
TZNAME:EDT
DTSTART:20240310T070000
END:DAYLIGHT
BEGIN:STANDARD
TZOFFSETFROM:-0400
TZOFFSETTO:-0500
TZNAME:EST
DTSTART:20241103T060000
END:STANDARD
BEGIN:DAYLIGHT
TZOFFSETFROM:-0500
TZOFFSETTO:-0400
TZNAME:EDT
DTSTART:20250309T070000
END:DAYLIGHT
BEGIN:STANDARD
TZOFFSETFROM:-0400
TZOFFSETTO:-0500
TZNAME:EST
DTSTART:20251102T060000
END:STANDARD
END:VTIMEZONE
BEGIN:VEVENT
DTSTART;TZID=America/New_York:20240223T190000
DTEND;TZID=America/New_York:20240223T200000
DTSTAMP:20260424T122902
CREATED:20240201T211840Z
LAST-MODIFIED:20240201T211840Z
UID:10000258-1708714800-1708718400@stanlycountyartscouncil.org
SUMMARY:Uwharrie Players presents "Miss Nelson is Missing"
DESCRIPTION:Miss Nelson is Missing!\nBook\, Music & Lyrics by Joan Cushing\nBased on the book “Miss Nelson is Missing” and “Miss Nelson is Back” by Harry Allard\n​Illustrated by James Marshall\nDirector – Christian Payne\n​Stage Manager – Bradley Eudy \nMiss Nelson’s class is the worst behaved in the whole school. Spitballs flying across the room\, paper airplanes sailing every which way and uncontrollable children send gentle\, long-suffering Miss Nelson over the edge. But the students of Room 207 are in for a surprise when Miss Nelson goes missing and is replaced by Viola Swamp\, a no-nonsense substitute who assigns piles of homework! The students learn lessons of appreciation and respect as they set out to find their beloved Miss Nelson … but will they ever get her back? \n\nMiss Nelson is Missing! Cast\nMiss Nelson/Viola Swamp – Madeline Medlin\nPoppy Hanson – Audrey Barringer\nPrincipal Blandsworth – Blair Johnson\nDetective McSmogg – Jacob Hoffer\nAdam – David Joseph\nAllison – Rebekah Ayscue\nGregory – Christian Payne\nCheryl – Kimrey Lowder​
URL:https://stanlycountyartscouncil.org/event/uwharrie-players-presents-miss-nelson-is-missing/2024-02-23/
LOCATION:Albemarle Neighborhood Theatre\, 219 E. North Street\, Albemarle\, NC\, 28001
CATEGORIES:Comedy,Uwharrie Players,Musical Theatre,Children's Theatre
ATTACH;FMTTYPE=image/png:https://stanlycountyartscouncil.org/wp-content/uploads/2024/02/Nelson-Poster-letter-size-1-1-e1706820630504.png
ORGANIZER;CN="The Uwharrie Players":MAILTO:info@theuwharrieplayers.org
END:VEVENT
BEGIN:VEVENT
DTSTART;TZID=America/New_York:20240224T150000
DTEND;TZID=America/New_York:20240224T160000
DTSTAMP:20260424T122902
CREATED:20240201T211840Z
LAST-MODIFIED:20240201T211840Z
UID:10000259-1708786800-1708790400@stanlycountyartscouncil.org
SUMMARY:Uwharrie Players presents "Miss Nelson is Missing"
DESCRIPTION:Miss Nelson is Missing!\nBook\, Music & Lyrics by Joan Cushing\nBased on the book “Miss Nelson is Missing” and “Miss Nelson is Back” by Harry Allard\n​Illustrated by James Marshall\nDirector – Christian Payne\n​Stage Manager – Bradley Eudy \nMiss Nelson’s class is the worst behaved in the whole school. Spitballs flying across the room\, paper airplanes sailing every which way and uncontrollable children send gentle\, long-suffering Miss Nelson over the edge. But the students of Room 207 are in for a surprise when Miss Nelson goes missing and is replaced by Viola Swamp\, a no-nonsense substitute who assigns piles of homework! The students learn lessons of appreciation and respect as they set out to find their beloved Miss Nelson … but will they ever get her back? \n\nMiss Nelson is Missing! Cast\nMiss Nelson/Viola Swamp – Madeline Medlin\nPoppy Hanson – Audrey Barringer\nPrincipal Blandsworth – Blair Johnson\nDetective McSmogg – Jacob Hoffer\nAdam – David Joseph\nAllison – Rebekah Ayscue\nGregory – Christian Payne\nCheryl – Kimrey Lowder​
URL:https://stanlycountyartscouncil.org/event/uwharrie-players-presents-miss-nelson-is-missing/2024-02-24/1/
LOCATION:Albemarle Neighborhood Theatre\, 219 E. North Street\, Albemarle\, NC\, 28001
CATEGORIES:Comedy,Uwharrie Players,Musical Theatre,Children's Theatre
ATTACH;FMTTYPE=image/png:https://stanlycountyartscouncil.org/wp-content/uploads/2024/02/Nelson-Poster-letter-size-1-1-e1706820630504.png
ORGANIZER;CN="The Uwharrie Players":MAILTO:info@theuwharrieplayers.org
END:VEVENT
BEGIN:VEVENT
DTSTART;TZID=America/New_York:20240224T190000
DTEND;TZID=America/New_York:20240224T200000
DTSTAMP:20260424T122902
CREATED:20240201T211840Z
LAST-MODIFIED:20240201T211840Z
UID:10000260-1708801200-1708804800@stanlycountyartscouncil.org
SUMMARY:Uwharrie Players presents "Miss Nelson is Missing"
DESCRIPTION:Miss Nelson is Missing!\nBook\, Music & Lyrics by Joan Cushing\nBased on the book “Miss Nelson is Missing” and “Miss Nelson is Back” by Harry Allard\n​Illustrated by James Marshall\nDirector – Christian Payne\n​Stage Manager – Bradley Eudy \nMiss Nelson’s class is the worst behaved in the whole school. Spitballs flying across the room\, paper airplanes sailing every which way and uncontrollable children send gentle\, long-suffering Miss Nelson over the edge. But the students of Room 207 are in for a surprise when Miss Nelson goes missing and is replaced by Viola Swamp\, a no-nonsense substitute who assigns piles of homework! The students learn lessons of appreciation and respect as they set out to find their beloved Miss Nelson … but will they ever get her back? \n\nMiss Nelson is Missing! Cast\nMiss Nelson/Viola Swamp – Madeline Medlin\nPoppy Hanson – Audrey Barringer\nPrincipal Blandsworth – Blair Johnson\nDetective McSmogg – Jacob Hoffer\nAdam – David Joseph\nAllison – Rebekah Ayscue\nGregory – Christian Payne\nCheryl – Kimrey Lowder​
URL:https://stanlycountyartscouncil.org/event/uwharrie-players-presents-miss-nelson-is-missing/2024-02-24/2/
LOCATION:Albemarle Neighborhood Theatre\, 219 E. North Street\, Albemarle\, NC\, 28001
CATEGORIES:Comedy,Uwharrie Players,Musical Theatre,Children's Theatre
ATTACH;FMTTYPE=image/png:https://stanlycountyartscouncil.org/wp-content/uploads/2024/02/Nelson-Poster-letter-size-1-1-e1706820630504.png
ORGANIZER;CN="The Uwharrie Players":MAILTO:info@theuwharrieplayers.org
END:VEVENT
BEGIN:VEVENT
DTSTART;TZID=America/New_York:20240225T150000
DTEND;TZID=America/New_York:20240225T160000
DTSTAMP:20260424T122902
CREATED:20240201T211840Z
LAST-MODIFIED:20240201T211840Z
UID:10000261-1708873200-1708876800@stanlycountyartscouncil.org
SUMMARY:Uwharrie Players presents "Miss Nelson is Missing"
DESCRIPTION:Miss Nelson is Missing!\nBook\, Music & Lyrics by Joan Cushing\nBased on the book “Miss Nelson is Missing” and “Miss Nelson is Back” by Harry Allard\n​Illustrated by James Marshall\nDirector – Christian Payne\n​Stage Manager – Bradley Eudy \nMiss Nelson’s class is the worst behaved in the whole school. Spitballs flying across the room\, paper airplanes sailing every which way and uncontrollable children send gentle\, long-suffering Miss Nelson over the edge. But the students of Room 207 are in for a surprise when Miss Nelson goes missing and is replaced by Viola Swamp\, a no-nonsense substitute who assigns piles of homework! The students learn lessons of appreciation and respect as they set out to find their beloved Miss Nelson … but will they ever get her back? \n\nMiss Nelson is Missing! Cast\nMiss Nelson/Viola Swamp – Madeline Medlin\nPoppy Hanson – Audrey Barringer\nPrincipal Blandsworth – Blair Johnson\nDetective McSmogg – Jacob Hoffer\nAdam – David Joseph\nAllison – Rebekah Ayscue\nGregory – Christian Payne\nCheryl – Kimrey Lowder​
URL:https://stanlycountyartscouncil.org/event/uwharrie-players-presents-miss-nelson-is-missing/2024-02-25/
LOCATION:Albemarle Neighborhood Theatre\, 219 E. North Street\, Albemarle\, NC\, 28001
CATEGORIES:Comedy,Uwharrie Players,Musical Theatre,Children's Theatre
ATTACH;FMTTYPE=image/png:https://stanlycountyartscouncil.org/wp-content/uploads/2024/02/Nelson-Poster-letter-size-1-1-e1706820630504.png
ORGANIZER;CN="The Uwharrie Players":MAILTO:info@theuwharrieplayers.org
END:VEVENT
END:VCALENDAR