BEGIN:VCALENDAR
VERSION:2.0
PRODID:-//Stanly County Arts Council - ECPv6.15.12.2//NONSGML v1.0//EN
CALSCALE:GREGORIAN
METHOD:PUBLISH
X-ORIGINAL-URL:https://stanlycountyartscouncil.org
X-WR-CALDESC:Events for Stanly County Arts Council
REFRESH-INTERVAL;VALUE=DURATION:PT1H
X-Robots-Tag:noindex
X-PUBLISHED-TTL:PT1H
BEGIN:VTIMEZONE
TZID:America/New_York
BEGIN:DAYLIGHT
TZOFFSETFROM:-0500
TZOFFSETTO:-0400
TZNAME:EDT
DTSTART:20220313T070000
END:DAYLIGHT
BEGIN:STANDARD
TZOFFSETFROM:-0400
TZOFFSETTO:-0500
TZNAME:EST
DTSTART:20221106T060000
END:STANDARD
BEGIN:DAYLIGHT
TZOFFSETFROM:-0500
TZOFFSETTO:-0400
TZNAME:EDT
DTSTART:20230312T070000
END:DAYLIGHT
BEGIN:STANDARD
TZOFFSETFROM:-0400
TZOFFSETTO:-0500
TZNAME:EST
DTSTART:20231105T060000
END:STANDARD
BEGIN:DAYLIGHT
TZOFFSETFROM:-0500
TZOFFSETTO:-0400
TZNAME:EDT
DTSTART:20240310T070000
END:DAYLIGHT
BEGIN:STANDARD
TZOFFSETFROM:-0400
TZOFFSETTO:-0500
TZNAME:EST
DTSTART:20241103T060000
END:STANDARD
END:VTIMEZONE
BEGIN:VEVENT
DTSTART;TZID=America/New_York:20231203T160000
DTEND;TZID=America/New_York:20231203T170000
DTSTAMP:20260422T200855
CREATED:20231023T214048Z
LAST-MODIFIED:20231023T214705Z
UID:10000124-1701619200-1701622800@stanlycountyartscouncil.org
SUMMARY:The Singing Americans of Stanly County presents "Nights of Alleluias"
DESCRIPTION:Come enjoy the free Christmas concert “Nights of Alleluias” performed by the Singing Americans of Stanly County. \nDecember 3 @ 4:00 pm @ Centerview Baptist Church\, 508 State Rd. (NE Connector)\, Albemarle\, NC \nDecember 10 @ 4:00 pm @ New London United Methodist Church\, 206 S. Main St. \, New London\, NC \n  \nThe Singing Americans of Stanly County \n\nMembers pay their own expenses and support the needs of the organization through fund raising events as often as needed. Donations and sponsorships are greatly appreciated throughout the year.\n\n\nThe Singing Americans of Stanly County is a unique organization composed of singers who sincerely love God and country. The group has been active in the community performing Christmas\, Easter and patriotic performances since 1976.\n\n\nFor more information about the Singing Americans\, contact Claudette Burris or Bob Remsburg through its Facebook page.\n\n 
URL:https://stanlycountyartscouncil.org/event/the-singing-americans-of-stanly-county-presents-nights-of-alleluias/
LOCATION:Centerview Baptist Church\, 508 State Rd 1650\, Albemarle\, NC\, 28001
CATEGORIES:Music,Holiday,Singing Americans of Stanly County
ATTACH;FMTTYPE=image/jpeg:https://stanlycountyartscouncil.org/wp-content/uploads/2023/10/358578518_579235651042800_827515751474376625_n.jpg
ORGANIZER;CN="The Singing Americans of Stanly County":MAILTO:pwmc@vnet.net
END:VEVENT
BEGIN:VEVENT
DTSTART;TZID=America/New_York:20231210T160000
DTEND;TZID=America/New_York:20231210T170000
DTSTAMP:20260422T200855
CREATED:20231023T214344Z
LAST-MODIFIED:20231023T215159Z
UID:10000125-1702224000-1702227600@stanlycountyartscouncil.org
SUMMARY:The Singing Americans of Stanly County presents "Nights of Alleluias"
DESCRIPTION:Come enjoy the free Christmas concert “Nights of Alleluias” performed by the Singing Americans of Stanly County. \nDecember 3 @ 4:00 pm @ Centerview Baptist Church\, 508 State Rd. 1650 (NE Connector)\, Albemarle\, NC \nDecember 10 @ 4:00 pm @ New London United Methodist Church\, 206 S. Main St. \, New London\, NC \n  \nThe Singing Americans of Stanly County \n\nMembers pay their own expenses and support the needs of the organization through fund raising events as often as needed. Donations and sponsorships are greatly appreciated throughout the year.\n\n\nThe Singing Americans of Stanly County is a unique organization composed of singers who sincerely love God and country. The group has been active in the community performing Christmas\, Easter and patriotic performances since 1976.\n\n\nFor more information about the Singing Americans\, contact Claudette Burris or Bob Remsburg through its Facebook page.\n\n 
URL:https://stanlycountyartscouncil.org/event/the-singing-americans-of-stanly-county-presents-nights-of-alleluias-2/
LOCATION:New London United Methodist Church\, 206 S. Main St.\, New London\, NC\, 28127
CATEGORIES:Music,Holiday,Singing Americans of Stanly County
ATTACH;FMTTYPE=image/jpeg:https://stanlycountyartscouncil.org/wp-content/uploads/2023/10/358578518_579235651042800_827515751474376625_n.jpg
ORGANIZER;CN="The Singing Americans of Stanly County":MAILTO:pwmc@vnet.net
END:VEVENT
END:VCALENDAR