BEGIN:VCALENDAR
VERSION:2.0
PRODID:-//Stanly County Arts Council - ECPv6.15.12.2//NONSGML v1.0//EN
CALSCALE:GREGORIAN
METHOD:PUBLISH
X-WR-CALNAME:Stanly County Arts Council
X-ORIGINAL-URL:https://stanlycountyartscouncil.org
X-WR-CALDESC:Events for Stanly County Arts Council
REFRESH-INTERVAL;VALUE=DURATION:PT1H
X-Robots-Tag:noindex
X-PUBLISHED-TTL:PT1H
BEGIN:VTIMEZONE
TZID:America/New_York
BEGIN:DAYLIGHT
TZOFFSETFROM:-0500
TZOFFSETTO:-0400
TZNAME:EDT
DTSTART:20230312T070000
END:DAYLIGHT
BEGIN:STANDARD
TZOFFSETFROM:-0400
TZOFFSETTO:-0500
TZNAME:EST
DTSTART:20231105T060000
END:STANDARD
BEGIN:DAYLIGHT
TZOFFSETFROM:-0500
TZOFFSETTO:-0400
TZNAME:EDT
DTSTART:20240310T070000
END:DAYLIGHT
BEGIN:STANDARD
TZOFFSETFROM:-0400
TZOFFSETTO:-0500
TZNAME:EST
DTSTART:20241103T060000
END:STANDARD
BEGIN:DAYLIGHT
TZOFFSETFROM:-0500
TZOFFSETTO:-0400
TZNAME:EDT
DTSTART:20250309T070000
END:DAYLIGHT
BEGIN:STANDARD
TZOFFSETFROM:-0400
TZOFFSETTO:-0500
TZNAME:EST
DTSTART:20251102T060000
END:STANDARD
END:VTIMEZONE
BEGIN:VEVENT
DTSTART;TZID=America/New_York:20241107T190000
DTEND;TZID=America/New_York:20241107T203000
DTSTAMP:20260421T203312
CREATED:20241011T141614Z
LAST-MODIFIED:20241016T160225Z
UID:10000319-1731006000-1731011400@stanlycountyartscouncil.org
SUMMARY:Stanly County Concert Band presents Elements in Music
DESCRIPTION:The Stanly County Concert Band Fall Concert is inspired by the elements of Earth\, Wind\, Fire and Water. It is amazing to hear how composers represent these elements using a variety of timbre\, rhythm and meter.
URL:https://stanlycountyartscouncil.org/event/stanly-county-concert-band-presents-elements-in-music/
LOCATION:Stanly County Agri-Civic Center\, 26032 Newt Rd # B\, Albemarle\, NC
CATEGORIES:Bands,Music,Stanly County Concert Band
ATTACH;FMTTYPE=image/jpeg:https://stanlycountyartscouncil.org/wp-content/uploads/2024/10/2024-Fall-Poster-1-scaled-e1729094517265.jpg
END:VEVENT
END:VCALENDAR