BEGIN:VCALENDAR
VERSION:2.0
PRODID:-//Stanly County Arts Council - ECPv6.15.12.2//NONSGML v1.0//EN
CALSCALE:GREGORIAN
METHOD:PUBLISH
X-ORIGINAL-URL:https://stanlycountyartscouncil.org
X-WR-CALDESC:Events for Stanly County Arts Council
REFRESH-INTERVAL;VALUE=DURATION:PT1H
X-Robots-Tag:noindex
X-PUBLISHED-TTL:PT1H
BEGIN:VTIMEZONE
TZID:America/New_York
BEGIN:DAYLIGHT
TZOFFSETFROM:-0500
TZOFFSETTO:-0400
TZNAME:EDT
DTSTART:20230312T070000
END:DAYLIGHT
BEGIN:STANDARD
TZOFFSETFROM:-0400
TZOFFSETTO:-0500
TZNAME:EST
DTSTART:20231105T060000
END:STANDARD
BEGIN:DAYLIGHT
TZOFFSETFROM:-0500
TZOFFSETTO:-0400
TZNAME:EDT
DTSTART:20240310T070000
END:DAYLIGHT
BEGIN:STANDARD
TZOFFSETFROM:-0400
TZOFFSETTO:-0500
TZNAME:EST
DTSTART:20241103T060000
END:STANDARD
BEGIN:DAYLIGHT
TZOFFSETFROM:-0500
TZOFFSETTO:-0400
TZNAME:EDT
DTSTART:20250309T070000
END:DAYLIGHT
BEGIN:STANDARD
TZOFFSETFROM:-0400
TZOFFSETTO:-0500
TZNAME:EST
DTSTART:20251102T060000
END:STANDARD
END:VTIMEZONE
BEGIN:VEVENT
DTSTART;TZID=America/New_York:20241205T190000
DTEND;TZID=America/New_York:20241205T203000
DTSTAMP:20260421T185017
CREATED:20241011T134142Z
LAST-MODIFIED:20241105T152040Z
UID:10000320-1733425200-1733430600@stanlycountyartscouncil.org
SUMMARY:Stanly County Concert Band Christmas Concert
DESCRIPTION:The Stanly County Concert Band will present a Christmas concert that includes some traditional and new music. There is even a Christmas song sing-a-long! It is sure to help everyone get in the spirit of the season! \nFree admission\, but requesting attendees to bring food items for the pantry at Stanly County Christian Ministries.
URL:https://stanlycountyartscouncil.org/event/stanly-county-concert-band-christmas-concert-2/
LOCATION:Central United Methodist Church\, 172 N. 2nd Street\, Albemarle\, NC\, 28001\, United States
CATEGORIES:Holiday,Music,Stanly County Concert Band
ATTACH;FMTTYPE=image/jpeg:https://stanlycountyartscouncil.org/wp-content/uploads/2024/10/2024-Christmas-Poster-scaled-e1730819969177.jpg
END:VEVENT
END:VCALENDAR