BEGIN:VCALENDAR
VERSION:2.0
PRODID:-//Stanly County Arts Council - ECPv6.15.12.2//NONSGML v1.0//EN
CALSCALE:GREGORIAN
METHOD:PUBLISH
X-WR-CALNAME:Stanly County Arts Council
X-ORIGINAL-URL:https://stanlycountyartscouncil.org
X-WR-CALDESC:Events for Stanly County Arts Council
REFRESH-INTERVAL;VALUE=DURATION:PT1H
X-Robots-Tag:noindex
X-PUBLISHED-TTL:PT1H
BEGIN:VTIMEZONE
TZID:America/New_York
BEGIN:DAYLIGHT
TZOFFSETFROM:-0500
TZOFFSETTO:-0400
TZNAME:EDT
DTSTART:20230312T070000
END:DAYLIGHT
BEGIN:STANDARD
TZOFFSETFROM:-0400
TZOFFSETTO:-0500
TZNAME:EST
DTSTART:20231105T060000
END:STANDARD
BEGIN:DAYLIGHT
TZOFFSETFROM:-0500
TZOFFSETTO:-0400
TZNAME:EDT
DTSTART:20240310T070000
END:DAYLIGHT
BEGIN:STANDARD
TZOFFSETFROM:-0400
TZOFFSETTO:-0500
TZNAME:EST
DTSTART:20241103T060000
END:STANDARD
BEGIN:DAYLIGHT
TZOFFSETFROM:-0500
TZOFFSETTO:-0400
TZNAME:EDT
DTSTART:20250309T070000
END:DAYLIGHT
BEGIN:STANDARD
TZOFFSETFROM:-0400
TZOFFSETTO:-0500
TZNAME:EST
DTSTART:20251102T060000
END:STANDARD
END:VTIMEZONE
BEGIN:VEVENT
DTSTART;TZID=America/New_York:20241116T193000
DTEND;TZID=America/New_York:20241116T210000
DTSTAMP:20260423T151016
CREATED:20241008T171853Z
LAST-MODIFIED:20241008T171853Z
UID:10000315-1731785400-1731790800@stanlycountyartscouncil.org
SUMMARY:Stanly County Concert Association presents TAKE3
DESCRIPTION:From Bach To The Beach Boys\nNoted for their wild and unexpected performances\, the genre-defying trio\, TAKE3\, brings the refinement of a rigorous classical music background and infuses it with rock-star charisma. Trained at the world’s top conservatories\, TAKE3 has expanded their repertoire from Bach and Beethoven to Bieber and The Beach Boys\, seamlessly blending diverse genres to create a unique sound. \nThey are known for their infectious and down-to-earth onstage personalities\, this threesome leaves an unforgettable mark on captivated crowds across the country. Their performances feature innovative arrangements of top pop hits\, Americana\, and their signature classical mashups\, which consistently delight and surprise their audiences. \nTAKE3’s shows are more than just concerts; they are interactive experiences. The trio incorporates dynamic lighting displays and shares comedic stories of their journey from scales in conservatory practice rooms to pop music in packed stadiums. These elements come together to create unforgettable events that have energized concertgoers nationwide. \nPerforming For Audiences Of All Sizes\nIn addition to their stage presence\, TAKE3’s commitment to musical excellence and creativity sets them apart. Their ability to engage with the audience\, coupled with their exceptional musical talent\, ensures that every performance is a memorable experience. Whether playing in intimate venues or grand theaters\, TAKE3 continues to redefine what a classical crossover group can be\, leaving audiences eagerly anticipating their next show. \n  \nYou may purchase a season ticket and be entitled to all concerts or you may purchase individual tickets to the concerts.  Season Tickets are Adult $80; Student $25\, Family w/ 1 adult $90\, Family w/ 2 adults $170.  Individual tickets are adult $25  and student $10.  They may be purchased online\, at the Stanly County Agri-Civic Center\, or at the door.  For more details\, please see the Stanly County Concert Association website:  Click here for Stanly County Concert Association website \nThis is the 2nd of the 5 concert series for 2024-2025. See below for upcoming performers/dates:\nSaturday\, December 14\, 2024 @ 7:30 pm – The Hall Sisters\nSaturday\, March 22\, 2025 @ 7:30 pm – Latin Swing Entertainment\nSaturday\, April 12\, 2025 @ 7:30 pm – S.O.A.R Jazz Group
URL:https://stanlycountyartscouncil.org/event/stanly-county-concert-association-presents-take3/
LOCATION:Stanly County Agri-Civic Center\, 26032 Newt Rd # B\, Albemarle\, NC
CATEGORIES:Music,Stanly County Concert Association
ATTACH;FMTTYPE=image/jpeg:https://stanlycountyartscouncil.org/wp-content/uploads/2024/10/take2group-e1728407884620.jpg
ORGANIZER;CN="Stanly County Concert Association":MAILTO:info@stanlyconcert.com
END:VEVENT
END:VCALENDAR