BEGIN:VCALENDAR
VERSION:2.0
PRODID:-//Stanly County Arts Council - ECPv6.15.12.2//NONSGML v1.0//EN
CALSCALE:GREGORIAN
METHOD:PUBLISH
X-ORIGINAL-URL:https://stanlycountyartscouncil.org
X-WR-CALDESC:Events for Stanly County Arts Council
REFRESH-INTERVAL;VALUE=DURATION:PT1H
X-Robots-Tag:noindex
X-PUBLISHED-TTL:PT1H
BEGIN:VTIMEZONE
TZID:America/New_York
BEGIN:DAYLIGHT
TZOFFSETFROM:-0500
TZOFFSETTO:-0400
TZNAME:EDT
DTSTART:20240310T070000
END:DAYLIGHT
BEGIN:STANDARD
TZOFFSETFROM:-0400
TZOFFSETTO:-0500
TZNAME:EST
DTSTART:20241103T060000
END:STANDARD
BEGIN:DAYLIGHT
TZOFFSETFROM:-0500
TZOFFSETTO:-0400
TZNAME:EDT
DTSTART:20250309T070000
END:DAYLIGHT
BEGIN:STANDARD
TZOFFSETFROM:-0400
TZOFFSETTO:-0500
TZNAME:EST
DTSTART:20251102T060000
END:STANDARD
BEGIN:DAYLIGHT
TZOFFSETFROM:-0500
TZOFFSETTO:-0400
TZNAME:EDT
DTSTART:20260308T070000
END:DAYLIGHT
BEGIN:STANDARD
TZOFFSETFROM:-0400
TZOFFSETTO:-0500
TZNAME:EST
DTSTART:20261101T060000
END:STANDARD
END:VTIMEZONE
BEGIN:VEVENT
DTSTART;TZID=America/New_York:20250322T193000
DTEND;TZID=America/New_York:20250322T210000
DTSTAMP:20260423T082451
CREATED:20241008T172806Z
LAST-MODIFIED:20241008T172806Z
UID:10000317-1742671800-1742677200@stanlycountyartscouncil.org
SUMMARY:Stanly County Concert Association presents Latin Swing Entertainment
DESCRIPTION:Tropical Music Band\nLatin Swing Entertainment\, established in Raleigh\, North Carolina in January 2019\, is a vibrant tropical music band that specializes in a wide range of Latin genres including Salsa\, Merengue\, Cumbia\, and Bachata. The band was founded by trumpet player and musical director Sandry E Romero Miller\, who embarked on his musical journey in 1998 at the Music Conservatory “Jose Luis Paz” in Maracaibo\, Venezuela. This early start led him to join the National System of Youth and Children’s Orchestras of Venezuela\, famously known as “El Sistema”. \nYou may purchase a season ticket and be entitled to all concerts or you may purchase individual tickets to the concerts.  Season Tickets are Adult $80; Student $25\, Family w/ 1 adult $90\, Family w/ 2 adults $170.  Individual tickets are adult $25  and student $10.  They may be purchased online\, at the Stanly County Agri-Civic Center\, or at the door.  For more details\, please see the Stanly County Concert Association website:  Click here for Stanly County Concert Association website \nThis is the 4th of the 5 concert series for 2024-2025. See below for upcoming performers/dates:\nSaturday\, April 12\, 2025 @ 7:30 pm – S.O.A.R Jazz Group
URL:https://stanlycountyartscouncil.org/event/stanly-county-concert-association-presents-latin-swing-entertainment/
LOCATION:Stanly County Agri-Civic Center\, 26032 Newt Rd # B\, Albemarle\, NC
CATEGORIES:Music,Stanly County Concert Association
ATTACH;FMTTYPE=image/jpeg:https://stanlycountyartscouncil.org/wp-content/uploads/2024/10/latinswingband600-e1728408376646.jpg
ORGANIZER;CN="Stanly County Concert Association":MAILTO:info@stanlyconcert.com
END:VEVENT
END:VCALENDAR