BEGIN:VCALENDAR
VERSION:2.0
PRODID:-//Stanly County Arts Council - ECPv6.15.12.2//NONSGML v1.0//EN
CALSCALE:GREGORIAN
METHOD:PUBLISH
X-ORIGINAL-URL:https://stanlycountyartscouncil.org
X-WR-CALDESC:Events for Stanly County Arts Council
REFRESH-INTERVAL;VALUE=DURATION:PT1H
X-Robots-Tag:noindex
X-PUBLISHED-TTL:PT1H
BEGIN:VTIMEZONE
TZID:America/New_York
BEGIN:DAYLIGHT
TZOFFSETFROM:-0500
TZOFFSETTO:-0400
TZNAME:EDT
DTSTART:20240310T070000
END:DAYLIGHT
BEGIN:STANDARD
TZOFFSETFROM:-0400
TZOFFSETTO:-0500
TZNAME:EST
DTSTART:20241103T060000
END:STANDARD
BEGIN:DAYLIGHT
TZOFFSETFROM:-0500
TZOFFSETTO:-0400
TZNAME:EDT
DTSTART:20250309T070000
END:DAYLIGHT
BEGIN:STANDARD
TZOFFSETFROM:-0400
TZOFFSETTO:-0500
TZNAME:EST
DTSTART:20251102T060000
END:STANDARD
BEGIN:DAYLIGHT
TZOFFSETFROM:-0500
TZOFFSETTO:-0400
TZNAME:EDT
DTSTART:20260308T070000
END:DAYLIGHT
BEGIN:STANDARD
TZOFFSETFROM:-0400
TZOFFSETTO:-0500
TZNAME:EST
DTSTART:20261101T060000
END:STANDARD
END:VTIMEZONE
BEGIN:VEVENT
DTSTART;TZID=America/New_York:20250412T193000
DTEND;TZID=America/New_York:20250412T210000
DTSTAMP:20260423T065552
CREATED:20241008T173215Z
LAST-MODIFIED:20241008T173215Z
UID:10000318-1744486200-1744491600@stanlycountyartscouncil.org
SUMMARY:Stanly County Concert Association presents S.O.A.R Jazz Group
DESCRIPTION:Award-Winning Jazz Duo: Sounds of A&R\nAwarded and named “Best Jazz Group” at the 2019 New York City Reader’s Jazz Awards\, the husband and wife duo known as Sounds of A&R\, or S.O.A.R. It is the brainchild of vocalist April May Webb and trumpeter and multi-instrumental professional Randall Haywood. In 2022\, S.O.A.R. was one of ten ensembles selected to represent the United States as U.S. Cultural Ambassadors as part of the American Music Abroad 2022 & 2023 international touring season. In 2023\, SOAR became the grant recipient of the Performance Plus program presented by Chamber Music America through the generosity of the Doris Duke Foundation. \nYou may purchase a season ticket and be entitled to all concerts or you may purchase individual tickets to the concerts.  Season Tickets are Adult $80; Student $25\, Family w/ 1 adult $90\, Family w/ 2 adults $170.  Individual tickets are adult $25  and student $10.  They may be purchased online\, at the Stanly County Agri-Civic Center\, or at the door.  For more details\, please see the Stanly County Concert Association website:  Click here for Stanly County Concert Association website \nThis is the last concert of the 2024-2025 concert series.  
URL:https://stanlycountyartscouncil.org/event/stanly-county-concert-association-presents-s-o-a-r-jazz-group/
LOCATION:Stanly County Agri-Civic Center\, 26032 Newt Rd # B\, Albemarle\, NC
CATEGORIES:Music,Stanly County Concert Association
ATTACH;FMTTYPE=image/jpeg:https://stanlycountyartscouncil.org/wp-content/uploads/2024/10/soarcouple-e1728408686472.jpg
ORGANIZER;CN="Stanly County Concert Association":MAILTO:info@stanlyconcert.com
END:VEVENT
END:VCALENDAR