BEGIN:VCALENDAR
VERSION:2.0
PRODID:-//Stanly County Arts Council - ECPv6.15.12.2//NONSGML v1.0//EN
CALSCALE:GREGORIAN
METHOD:PUBLISH
X-WR-CALNAME:Stanly County Arts Council
X-ORIGINAL-URL:https://stanlycountyartscouncil.org
X-WR-CALDESC:Events for Stanly County Arts Council
REFRESH-INTERVAL;VALUE=DURATION:PT1H
X-Robots-Tag:noindex
X-PUBLISHED-TTL:PT1H
BEGIN:VTIMEZONE
TZID:America/New_York
BEGIN:DAYLIGHT
TZOFFSETFROM:-0500
TZOFFSETTO:-0400
TZNAME:EDT
DTSTART:20200308T070000
END:DAYLIGHT
BEGIN:STANDARD
TZOFFSETFROM:-0400
TZOFFSETTO:-0500
TZNAME:EST
DTSTART:20201101T060000
END:STANDARD
BEGIN:DAYLIGHT
TZOFFSETFROM:-0500
TZOFFSETTO:-0400
TZNAME:EDT
DTSTART:20210314T070000
END:DAYLIGHT
BEGIN:STANDARD
TZOFFSETFROM:-0400
TZOFFSETTO:-0500
TZNAME:EST
DTSTART:20211107T060000
END:STANDARD
BEGIN:DAYLIGHT
TZOFFSETFROM:-0500
TZOFFSETTO:-0400
TZNAME:EDT
DTSTART:20220313T070000
END:DAYLIGHT
BEGIN:STANDARD
TZOFFSETFROM:-0400
TZOFFSETTO:-0500
TZNAME:EST
DTSTART:20221106T060000
END:STANDARD
END:VTIMEZONE
BEGIN:VEVENT
DTSTART;TZID=America/New_York:20211107T150000
DTEND;TZID=America/New_York:20211107T160000
DTSTAMP:20260423T143306
CREATED:20210826T133853Z
LAST-MODIFIED:20211021T025126Z
UID:10000022-1636297200-1636300800@stanlycountyartscouncil.org
SUMMARY:First Bank\, Corning with the Stanly County Arts Council present The Charlotte Symphony Orchestra's "Spirit of America"
DESCRIPTION:After a two-year hiatus\, First Bank and Corning with the Stanly County Arts Council are excited to welcome back the Charlotte Symphony Orchestra to Stanly County. With this year’s concert being held just prior to Veteran’s Day\, it presented itself as a perfect opportunity to perform a patriotic concert called “Spirit of America.” The program includes familiar arrangements from Aaron Copland\, Percy Grainger\, Leroy Anderson\, John Williams\, and John Philip Sousa. \nWith our mission being “to encourage and promote broad-based cultural and educational activities in the arts throughout Stanly County” we wanted to make sure that everyone would be able to partake in this opportunity.  Our goal was to ensure that ticket prices were not cost-prohibitive.  Fortunately\, the local business community recognized the importance of this concert previously and again this year.  Their generosity ensured that financially we could afford to bring this concert to the local community.  First Bank and Corning are our Maestro (title) sponsors.  Dr. John Kilde of Charlotte Eye\, Ear\, Nose & Throat is our Concertmaster sponsor\, and our Principal sponsors include Stanly Community College\, Union Power\, and Uwharrie Bank. \nPfeiffer University is excited to be this year’s Student Ticket sponsor. This sponsorship allows any student in Stanly County from Kindergarten through seniors in high school to receive a free ticket to the performance with a paying adult.  These tickets will be made available at the schools the week of October 25 or can be downloaded and printed from the SC Arts Council website.  As part of the sponsorship\, Pfeiffer University students also receive free admission just by showing their student ID at the door. \nTicket outlets include: \nStanly County Agri-civic Center Box Office:  Monday-Friday 9 am – 4:30 pm (Cash & check only) \nFirst Bank:  Albemarle\, Locust\, Mount Pleasant\, Richfield\,  & Troy (cash & check only) \nHarris Teeter – Albemarle (available October 27-November 7th) – (Cash\, Check\, Credit Cards)
URL:https://stanlycountyartscouncil.org/event/the-charlotte-symphony-in-concert/
LOCATION:Stanly County Agri-Civic Center\, 26032 Newt Rd # B\, Albemarle\, NC
CATEGORIES:Music
ATTACH;FMTTYPE=image/jpeg:https://stanlycountyartscouncil.org/wp-content/uploads/2021/08/Symphony-Poster-creative-2021-e1634586389930.jpg
ORGANIZER;CN="Stanly County Arts Council":MAILTO:stanlycountyartscouncil1974@gmail.com
END:VEVENT
BEGIN:VEVENT
DTSTART;TZID=America/New_York:20211113T193000
DTEND;TZID=America/New_York:20211113T213000
DTSTAMP:20260423T143306
CREATED:20211011T212025Z
LAST-MODIFIED:20211011T212149Z
UID:10000018-1636831800-1636839000@stanlycountyartscouncil.org
SUMMARY:Stanly County Concert Association presents Paul Saik
DESCRIPTION:The third concert of the 73rd Season of the Stanly County Concert Association is Paul Saik. \nA native of Jackson\, Mississippi\, Paul Saik began playing the piano at 3\, and at 13 had the position of pianist at First Baptist Church in Pearl\, Mississippi. At 16 he became head organist. With his Bachelor of music degree in piano\, Paul won numerous awards\, and studied abroad at the University of London. At Baylor University Paul earned a Masters of Music in both piano and organ. An accomplished vocalists as well\, Paul performed with opera companies around the world and on Broadway. \nHe leads religious music conferences\, special events and tours with programs of Broadway and popular music. A delightful evening is promised when Paul visits Stanly County. \nThe 2021-2022 season of the Stanly County Concert Association (SCCA) includes six concerts to enjoy\, including The Embers (08/29/2021)\, The Malpass Brothers (10/16/2021)\, Paul Saik\, Music City Christmas featuring Meagan Taylor and Jason Coleman\, The Entertainers and The Hall Sisters.  For more information and to purchase season tickets\, visit the SCCA website at www. stanlyconcert.com.  Individual tickets may be purchased online\, box office at the Stanly County Agri-Civic Center\, Starnes Jewelers\, or at the door the day of the concert.  Student Tickets:  $10; Adult Tickets:  $20.
URL:https://stanlycountyartscouncil.org/event/stanly-county-concert-association-presents-paul-saik/
LOCATION:Stanly County Agri-Civic Center\, 26032 Newt Rd # B\, Albemarle\, NC
CATEGORIES:Music,Stanly County Concert Association
ATTACH;FMTTYPE=image/jpeg:https://stanlycountyartscouncil.org/wp-content/uploads/2021/10/concertpaulsaik.jpg
ORGANIZER;CN="Stanly County Concert Association":MAILTO:info@stanlyconcert.com
END:VEVENT
END:VCALENDAR