BEGIN:VCALENDAR
VERSION:2.0
PRODID:-//Stanly County Arts Council - ECPv6.15.12.2//NONSGML v1.0//EN
CALSCALE:GREGORIAN
METHOD:PUBLISH
X-ORIGINAL-URL:https://stanlycountyartscouncil.org
X-WR-CALDESC:Events for Stanly County Arts Council
REFRESH-INTERVAL;VALUE=DURATION:PT1H
X-Robots-Tag:noindex
X-PUBLISHED-TTL:PT1H
BEGIN:VTIMEZONE
TZID:America/New_York
BEGIN:DAYLIGHT
TZOFFSETFROM:-0500
TZOFFSETTO:-0400
TZNAME:EDT
DTSTART:20220313T070000
END:DAYLIGHT
BEGIN:STANDARD
TZOFFSETFROM:-0400
TZOFFSETTO:-0500
TZNAME:EST
DTSTART:20221106T060000
END:STANDARD
BEGIN:DAYLIGHT
TZOFFSETFROM:-0500
TZOFFSETTO:-0400
TZNAME:EDT
DTSTART:20230312T070000
END:DAYLIGHT
BEGIN:STANDARD
TZOFFSETFROM:-0400
TZOFFSETTO:-0500
TZNAME:EST
DTSTART:20231105T060000
END:STANDARD
BEGIN:DAYLIGHT
TZOFFSETFROM:-0500
TZOFFSETTO:-0400
TZNAME:EDT
DTSTART:20240310T070000
END:DAYLIGHT
BEGIN:STANDARD
TZOFFSETFROM:-0400
TZOFFSETTO:-0500
TZNAME:EST
DTSTART:20241103T060000
END:STANDARD
END:VTIMEZONE
BEGIN:VEVENT
DTSTART;TZID=America/New_York:20231015T150000
DTEND;TZID=America/New_York:20231015T163000
DTSTAMP:20260422T010043
CREATED:20230911T151135Z
LAST-MODIFIED:20230925T233151Z
UID:10000115-1697382000-1697387400@stanlycountyartscouncil.org
SUMMARY:Stanly County Arts Council & First Bank present the Charlotte Symphony's "Classics Go to the Movies"
DESCRIPTION:The Stanly County Arts Council and First Bank welcome the Charlotte Symphony back to Albemarle with “Classics Go to the Movies” on Sunday\, October 15\, 2023\, from 3:00 pm – 4:00 pm.  Conductor Christopher James Lees presents musical selections from classical pieces that were used in some of the greatest movies.  Program includes: \nRICHARD WHITING/Bill Holcombe  “Hooray for Hollywood”\nWOLFGANG AMADEUS MOZART “Nozze di Figaro\, Le K. 492”\nJOHANN\, JR. STRAUSS  “On the Beautiful Blue Danube\,” Waltzes\, Opus 314\nJACQUES OFFENBACH’s  “Can-Can” from The Overture to Orpheus in the Underworld\nJOHN WILLIAMS Suite from Jaws: “The Shark Theme”\nHAROLD ARLEN/Rothrock and Holcombe  “Somewhere Over the Rainbow” from The Wizard of Oz\nJOHN WILLIAMS Harry Potter and The Sorcerer’s Stone Suite: “Harry’s Wondrous World”\nJOHN WILLIAMS  “Adventures on Earth” from E.T. \n  \nTickets:  \nGeneral Admission Adult:  $10\, Child/Student/Group:  $5 (click here to purchase online)\nReserved seating:  $20 (only available at the Stanly County Agri-Civic Center) \nTickets will go on sale no later than September 25\, 2023\, at the following locations: \nStanly County Agri-civic Center ticket office (Mon-Friday\, 8:30 am – 5:00 pm) – Reserved tickets available too! Cash & Check only\nHarris Teeter (Albemarle location only)\, Cash\, Check or Credit Card\nFirst Bank branches:  Albemarle\, Locust\, Mt. Pleasant\, Richfield\, and Troy locations\, Cash and Check only\nOnline \nAll Stanly County Students will receive a free ticket (with the purchase of an adult ticket)\, compliments of  Pfeiffer University.  These will be distributed through the schools in the month of October. \nSpecial thanks to our sponsors for making this wonderful opportunity possible!! \nFirst Bank\, Pfeiffer University\, Visit Stanly\, Dr. Kilde – Charlotte Eye\, Ear\, Nose & Throat Specialists\, Atrium Health – Stanly\, Union Power\, Stanly Community College\, Farm Bureau Insurance – Jason Silver\, NJR Group\, Uwharrie Bank\, The Stanly News & Press and WSPC 1010AM/107.3FM and Magic 103.3FM radio stations. \n  \n  \n  \n 
URL:https://stanlycountyartscouncil.org/event/stanly-county-arts-council-first-bank-present-the-charlotte-symphonys-classics-go-to-the-movies/
LOCATION:Stanly County Agri-Civic Center\, 26032 Newt Rd # B\, Albemarle\, NC
CATEGORIES:Music,Charlotte Symphony
ATTACH;FMTTYPE=image/png:https://stanlycountyartscouncil.org/wp-content/uploads/2021/10/symphony-square.png
ORGANIZER;CN="Stanly County Arts Council":MAILTO:stanlycountyartscouncil1974@gmail.com
END:VEVENT
END:VCALENDAR