BEGIN:VCALENDAR
VERSION:2.0
PRODID:-//Stanly County Arts Council - ECPv6.15.12.2//NONSGML v1.0//EN
CALSCALE:GREGORIAN
METHOD:PUBLISH
X-ORIGINAL-URL:https://stanlycountyartscouncil.org
X-WR-CALDESC:Events for Stanly County Arts Council
REFRESH-INTERVAL;VALUE=DURATION:PT1H
X-Robots-Tag:noindex
X-PUBLISHED-TTL:PT1H
BEGIN:VTIMEZONE
TZID:America/New_York
BEGIN:DAYLIGHT
TZOFFSETFROM:-0500
TZOFFSETTO:-0400
TZNAME:EDT
DTSTART:20220313T070000
END:DAYLIGHT
BEGIN:STANDARD
TZOFFSETFROM:-0400
TZOFFSETTO:-0500
TZNAME:EST
DTSTART:20221106T060000
END:STANDARD
BEGIN:DAYLIGHT
TZOFFSETFROM:-0500
TZOFFSETTO:-0400
TZNAME:EDT
DTSTART:20230312T070000
END:DAYLIGHT
BEGIN:STANDARD
TZOFFSETFROM:-0400
TZOFFSETTO:-0500
TZNAME:EST
DTSTART:20231105T060000
END:STANDARD
BEGIN:DAYLIGHT
TZOFFSETFROM:-0500
TZOFFSETTO:-0400
TZNAME:EDT
DTSTART:20240310T070000
END:DAYLIGHT
BEGIN:STANDARD
TZOFFSETFROM:-0400
TZOFFSETTO:-0500
TZNAME:EST
DTSTART:20241103T060000
END:STANDARD
END:VTIMEZONE
BEGIN:VEVENT
DTSTART;TZID=America/New_York:20231209T193000
DTEND;TZID=America/New_York:20231209T213000
DTSTAMP:20260421T214338
CREATED:20231023T142526Z
LAST-MODIFIED:20231023T142526Z
UID:10000119-1702150200-1702157400@stanlycountyartscouncil.org
SUMMARY:Stanly County Concert Association presents The Rowan Big Band All Stars
DESCRIPTION:The Rowan Big Band All Stars is an 18-piece community big band in the tradition of Glenn Miller\, Count Basie\, Duke Ellington and other great early twentieth-century bandleaders\, home-based in Landis\, North Carolina and specializing in Great American Songbook favorites and “big band swing.”  First organized in 2006\, the Band is a nonprofit organization dedicated to preserving this uniquely American style of music and sharing our appreciation of it with others.  The members of our band volunteer their talents for performances\, and the net proceeds from our musical performances are used to support worthwhile local charities.  Our logo is a “swingin’ square.” \n​ \nThis is the third of five concerts of the 2023-2024 Stanly County Concert Association’s concert season. Other concerts in the series include: \nFebruary 3\, 2024 @ 7:30 pm – Paul & Sophia Chandley \nMarch 23\, 2024 @ 7:30 pm – The Extraordinaires \nAll concerts are held at the Stanly County Agri-Civic Center\, 26032 Newt Rd\, Albemarle\, NC 28001. \nFor season membership or single ticket information\, please visit the website of the Stanly County Concert Association.
URL:https://stanlycountyartscouncil.org/event/stanly-county-concert-association-presents-the-rowan-big-band-all-stars/
LOCATION:Stanly County Agri-Civic Center\, 26032 Newt Rd # B\, Albemarle\, NC
CATEGORIES:Music,Stanly County Concert Association,Holiday
ATTACH;FMTTYPE=image/webp:https://stanlycountyartscouncil.org/wp-content/uploads/2023/10/5d7fe7_ce6b715e2f564233bb0cd2ac79cf9a44mv2.webp
ORGANIZER;CN="Stanly County Concert Association":MAILTO:info@stanlyconcert.com
END:VEVENT
END:VCALENDAR