BEGIN:VCALENDAR
VERSION:2.0
PRODID:-//Stanly County Arts Council - ECPv6.15.12.2//NONSGML v1.0//EN
CALSCALE:GREGORIAN
METHOD:PUBLISH
X-ORIGINAL-URL:https://stanlycountyartscouncil.org
X-WR-CALDESC:Events for Stanly County Arts Council
REFRESH-INTERVAL;VALUE=DURATION:PT1H
X-Robots-Tag:noindex
X-PUBLISHED-TTL:PT1H
BEGIN:VTIMEZONE
TZID:America/New_York
BEGIN:DAYLIGHT
TZOFFSETFROM:-0500
TZOFFSETTO:-0400
TZNAME:EDT
DTSTART:20240310T070000
END:DAYLIGHT
BEGIN:STANDARD
TZOFFSETFROM:-0400
TZOFFSETTO:-0500
TZNAME:EST
DTSTART:20241103T060000
END:STANDARD
BEGIN:DAYLIGHT
TZOFFSETFROM:-0500
TZOFFSETTO:-0400
TZNAME:EDT
DTSTART:20250309T070000
END:DAYLIGHT
BEGIN:STANDARD
TZOFFSETFROM:-0400
TZOFFSETTO:-0500
TZNAME:EST
DTSTART:20251102T060000
END:STANDARD
BEGIN:DAYLIGHT
TZOFFSETFROM:-0500
TZOFFSETTO:-0400
TZNAME:EDT
DTSTART:20260308T070000
END:DAYLIGHT
BEGIN:STANDARD
TZOFFSETFROM:-0400
TZOFFSETTO:-0500
TZNAME:EST
DTSTART:20261101T060000
END:STANDARD
END:VTIMEZONE
BEGIN:VEVENT
DTSTART;TZID=America/New_York:20251109T160000
DTEND;TZID=America/New_York:20251109T170000
DTSTAMP:20260424T214237
CREATED:20250825T160055Z
LAST-MODIFIED:20250825T160055Z
UID:10000370-1762704000-1762707600@stanlycountyartscouncil.org
SUMMARY:Singing Americans - Tribute to Veterans Concert
DESCRIPTION:Come sing and clap along as the Singing Americans of Stanly County salute our Veterans in this patriotic choral concert. Songs will include well-known patriotic melodies and songs which pay tribute to those who have served our country in the armed forces and those who sacrificed their lives so we can live in a free country. Free concert. Hosted by Bethany Methodist Church\, 2411 US 52 north\, Albemarle\, NC 28001. Concert starts at 4:00 PM.
URL:https://stanlycountyartscouncil.org/event/singing-americans-tribute-to-veterans-concert-2/
LOCATION:Bethany Methodist Church\, 2411 US 52 north\, Albemarle\, 28001
CATEGORIES:Singing Americans of Stanly County
ATTACH;FMTTYPE=image/jpeg:https://stanlycountyartscouncil.org/wp-content/uploads/2025/08/Singing-Americans-Veterans-Concert-2025-e1756137556739.jpg
ORGANIZER;CN="The Singing Americans of Stanly County":MAILTO:pwmc@vnet.net
END:VEVENT
END:VCALENDAR