BEGIN:VCALENDAR
VERSION:2.0
PRODID:-//Stanly County Arts Council - ECPv6.15.12.2//NONSGML v1.0//EN
CALSCALE:GREGORIAN
METHOD:PUBLISH
X-ORIGINAL-URL:https://stanlycountyartscouncil.org
X-WR-CALDESC:Events for Stanly County Arts Council
REFRESH-INTERVAL;VALUE=DURATION:PT1H
X-Robots-Tag:noindex
X-PUBLISHED-TTL:PT1H
BEGIN:VTIMEZONE
TZID:America/New_York
BEGIN:DAYLIGHT
TZOFFSETFROM:-0500
TZOFFSETTO:-0400
TZNAME:EDT
DTSTART:20240310T070000
END:DAYLIGHT
BEGIN:STANDARD
TZOFFSETFROM:-0400
TZOFFSETTO:-0500
TZNAME:EST
DTSTART:20241103T060000
END:STANDARD
BEGIN:DAYLIGHT
TZOFFSETFROM:-0500
TZOFFSETTO:-0400
TZNAME:EDT
DTSTART:20250309T070000
END:DAYLIGHT
BEGIN:STANDARD
TZOFFSETFROM:-0400
TZOFFSETTO:-0500
TZNAME:EST
DTSTART:20251102T060000
END:STANDARD
BEGIN:DAYLIGHT
TZOFFSETFROM:-0500
TZOFFSETTO:-0400
TZNAME:EDT
DTSTART:20260308T070000
END:DAYLIGHT
BEGIN:STANDARD
TZOFFSETFROM:-0400
TZOFFSETTO:-0500
TZNAME:EST
DTSTART:20261101T060000
END:STANDARD
END:VTIMEZONE
BEGIN:VEVENT
DTSTART;TZID=America/New_York:20250503T130000
DTEND;TZID=America/New_York:20250503T160000
DTSTAMP:20260423T121755
CREATED:20250421T205452Z
LAST-MODIFIED:20250421T205452Z
UID:10000362-1746277200-1746288000@stanlycountyartscouncil.org
SUMMARY:Airing of the Quilts\, A trunk show of the Three Rivers Quilt Guild
DESCRIPTION:In the historic setting of the 1852 Isaiah W. Snuggs House\, this annual show will feature quilts from The Three Rivers Quilt Guild. Airing quilts outside has a long tradition in America beginning in colonial times. Early European settlers would mark the beginning of spring by airing quilts outside following heavy use during the winter season.\nLocal quilter Wanda Brooks will be on hand to authenticate and date your heirloom quilts and answer your quilting questions. Event is free
URL:https://stanlycountyartscouncil.org/event/airing-of-the-quilts-a-trunk-show-of-the-three-rivers-quilt-guild/
LOCATION:Isaiah W. Snuggs and Freeman-Marks Houses\, 112 N. 3rd Street\, Albemarle\, NC\, United States
CATEGORIES:Crafts and Arts
ATTACH;FMTTYPE=image/png:https://stanlycountyartscouncil.org/wp-content/uploads/2025/04/Airing-of-the-Quilts-2025.png
ORGANIZER;CN="Stanly County Historical Society":MAILTO:historicstanly@gmail.com
END:VEVENT
END:VCALENDAR