BEGIN:VCALENDAR
VERSION:2.0
PRODID:-//Stanly County Arts Council - ECPv6.15.12.2//NONSGML v1.0//EN
CALSCALE:GREGORIAN
METHOD:PUBLISH
X-WR-CALNAME:Stanly County Arts Council
X-ORIGINAL-URL:https://stanlycountyartscouncil.org
X-WR-CALDESC:Events for Stanly County Arts Council
REFRESH-INTERVAL;VALUE=DURATION:PT1H
X-Robots-Tag:noindex
X-PUBLISHED-TTL:PT1H
BEGIN:VTIMEZONE
TZID:America/New_York
BEGIN:DAYLIGHT
TZOFFSETFROM:-0500
TZOFFSETTO:-0400
TZNAME:EDT
DTSTART:20230312T070000
END:DAYLIGHT
BEGIN:STANDARD
TZOFFSETFROM:-0400
TZOFFSETTO:-0500
TZNAME:EST
DTSTART:20231105T060000
END:STANDARD
BEGIN:DAYLIGHT
TZOFFSETFROM:-0500
TZOFFSETTO:-0400
TZNAME:EDT
DTSTART:20240310T070000
END:DAYLIGHT
BEGIN:STANDARD
TZOFFSETFROM:-0400
TZOFFSETTO:-0500
TZNAME:EST
DTSTART:20241103T060000
END:STANDARD
BEGIN:DAYLIGHT
TZOFFSETFROM:-0500
TZOFFSETTO:-0400
TZNAME:EDT
DTSTART:20250309T070000
END:DAYLIGHT
BEGIN:STANDARD
TZOFFSETFROM:-0400
TZOFFSETTO:-0500
TZNAME:EST
DTSTART:20251102T060000
END:STANDARD
END:VTIMEZONE
BEGIN:VEVENT
DTSTART;TZID=America/New_York:20240503T193000
DTEND;TZID=America/New_York:20240503T213000
DTSTAMP:20260425T150853
CREATED:20240426T172711Z
LAST-MODIFIED:20240426T172711Z
UID:10000289-1714764600-1714771800@stanlycountyartscouncil.org
SUMMARY:West Stanly Players presents "The Play That Goes Wrong"
DESCRIPTION:The West Stanly Players will present the hilarious farce\, The Play That Goes Wrong on May 3\, 4\, 10 & 11 at 7:30 pm and May 5 at 2:30 pm. \nThe Broadway & West End comedy is one of the most popular shows in the US and in England. It will have the audience rolling the aisles with laughter. \nTickets are $10 in advance\, $12 at the door and $15 for reserved seating. Tickets can be purchased by calling April Tucker at 704-791-3200 or via email wes.tucker@stanlycountyschools.org. All shows will be performed in the WSP theatre at West Stanly High School.
URL:https://stanlycountyartscouncil.org/event/west-stanly-players-presents-the-play-that-goes-wrong/
LOCATION:West Stanly High School\, 306 E. Red Cross Rd\, Oakboro\, NC\, 28129
CATEGORIES:West Stanly Players,Theatre,Comedy
ATTACH;FMTTYPE=image/png:https://stanlycountyartscouncil.org/wp-content/uploads/2024/04/The-Play-That-Goes-Wrong-Final-Poster-e1714152297776.png
ORGANIZER;CN="West Stanly Players":MAILTO:wes.tucker@stanlycountyschools.org
END:VEVENT
BEGIN:VEVENT
DTSTART;TZID=America/New_York:20240504T193000
DTEND;TZID=America/New_York:20240504T213000
DTSTAMP:20260425T150853
CREATED:20240426T172752Z
LAST-MODIFIED:20240426T172752Z
UID:10000290-1714851000-1714858200@stanlycountyartscouncil.org
SUMMARY:West Stanly Players presents "The Play That Goes Wrong"
DESCRIPTION:The West Stanly Players will present the hilarious farce\, The Play That Goes Wrong on May 3\, 4\, 10 & 11 at 7:30 pm and May 5 at 2:30 pm. \nThe Broadway & West End comedy is one of the most popular shows in the US and in England. It will have the audience rolling the aisles with laughter. \nTickets are $10 in advance\, $12 at the door and $15 for reserved seating. Tickets can be purchased by calling April Tucker at 704-791-3200 or via email wes.tucker@stanlycountyschools.org. All shows will be performed in the WSP theatre at West Stanly High School.
URL:https://stanlycountyartscouncil.org/event/west-stanly-players-presents-the-play-that-goes-wrong-2/
LOCATION:West Stanly High School\, 306 E. Red Cross Rd\, Oakboro\, NC\, 28129
CATEGORIES:West Stanly Players,Theatre,Comedy
ATTACH;FMTTYPE=image/png:https://stanlycountyartscouncil.org/wp-content/uploads/2024/04/The-Play-That-Goes-Wrong-Final-Poster-e1714152297776.png
ORGANIZER;CN="West Stanly Players":MAILTO:wes.tucker@stanlycountyschools.org
END:VEVENT
BEGIN:VEVENT
DTSTART;TZID=America/New_York:20240505T143000
DTEND;TZID=America/New_York:20240505T163000
DTSTAMP:20260425T150853
CREATED:20240426T173004Z
LAST-MODIFIED:20240426T173004Z
UID:10000293-1714919400-1714926600@stanlycountyartscouncil.org
SUMMARY:West Stanly Players presents "The Play That Goes Wrong"
DESCRIPTION:The West Stanly Players will present the hilarious farce\, The Play That Goes Wrong on May 3\, 4\, 10 & 11 at 7:30 pm and May 5 at 2:30 pm. \nThe Broadway & West End comedy is one of the most popular shows in the US and in England. It will have the audience rolling the aisles with laughter. \nTickets are $10 in advance\, $12 at the door and $15 for reserved seating. Tickets can be purchased by calling April Tucker at 704-791-3200 or via email wes.tucker@stanlycountyschools.org. All shows will be performed in the WSP theatre at West Stanly High School.
URL:https://stanlycountyartscouncil.org/event/west-stanly-players-presents-the-play-that-goes-wrong-5/
LOCATION:West Stanly High School\, 306 E. Red Cross Rd\, Oakboro\, NC\, 28129
CATEGORIES:West Stanly Players,Theatre,Comedy
ATTACH;FMTTYPE=image/png:https://stanlycountyartscouncil.org/wp-content/uploads/2024/04/The-Play-That-Goes-Wrong-Final-Poster-e1714152297776.png
ORGANIZER;CN="West Stanly Players":MAILTO:wes.tucker@stanlycountyschools.org
END:VEVENT
BEGIN:VEVENT
DTSTART;TZID=America/New_York:20240510T193000
DTEND;TZID=America/New_York:20240510T213000
DTSTAMP:20260425T150853
CREATED:20240426T172831Z
LAST-MODIFIED:20240426T172831Z
UID:10000291-1715369400-1715376600@stanlycountyartscouncil.org
SUMMARY:West Stanly Players presents "The Play That Goes Wrong"
DESCRIPTION:The West Stanly Players will present the hilarious farce\, The Play That Goes Wrong on May 3\, 4\, 10 & 11 at 7:30 pm and May 5 at 2:30 pm. \nThe Broadway & West End comedy is one of the most popular shows in the US and in England. It will have the audience rolling the aisles with laughter. \nTickets are $10 in advance\, $12 at the door and $15 for reserved seating. Tickets can be purchased by calling April Tucker at 704-791-3200 or via email wes.tucker@stanlycountyschools.org. All shows will be performed in the WSP theatre at West Stanly High School.
URL:https://stanlycountyartscouncil.org/event/west-stanly-players-presents-the-play-that-goes-wrong-3/
LOCATION:West Stanly High School\, 306 E. Red Cross Rd\, Oakboro\, NC\, 28129
CATEGORIES:West Stanly Players,Theatre,Comedy
ATTACH;FMTTYPE=image/png:https://stanlycountyartscouncil.org/wp-content/uploads/2024/04/The-Play-That-Goes-Wrong-Final-Poster-e1714152297776.png
ORGANIZER;CN="West Stanly Players":MAILTO:wes.tucker@stanlycountyschools.org
END:VEVENT
BEGIN:VEVENT
DTSTART;TZID=America/New_York:20240511T193000
DTEND;TZID=America/New_York:20240511T213000
DTSTAMP:20260425T150853
CREATED:20240426T172920Z
LAST-MODIFIED:20240426T172920Z
UID:10000292-1715455800-1715463000@stanlycountyartscouncil.org
SUMMARY:West Stanly Players presents "The Play That Goes Wrong"
DESCRIPTION:The West Stanly Players will present the hilarious farce\, The Play That Goes Wrong on May 3\, 4\, 10 & 11 at 7:30 pm and May 5 at 2:30 pm. \nThe Broadway & West End comedy is one of the most popular shows in the US and in England. It will have the audience rolling the aisles with laughter. \nTickets are $10 in advance\, $12 at the door and $15 for reserved seating. Tickets can be purchased by calling April Tucker at 704-791-3200 or via email wes.tucker@stanlycountyschools.org. All shows will be performed in the WSP theatre at West Stanly High School.
URL:https://stanlycountyartscouncil.org/event/west-stanly-players-presents-the-play-that-goes-wrong-4/
LOCATION:West Stanly High School\, 306 E. Red Cross Rd\, Oakboro\, NC\, 28129
CATEGORIES:West Stanly Players,Theatre,Comedy
ATTACH;FMTTYPE=image/png:https://stanlycountyartscouncil.org/wp-content/uploads/2024/04/The-Play-That-Goes-Wrong-Final-Poster-e1714152297776.png
ORGANIZER;CN="West Stanly Players":MAILTO:wes.tucker@stanlycountyschools.org
END:VEVENT
END:VCALENDAR