BEGIN:VCALENDAR
VERSION:2.0
PRODID:-//Stanly County Arts Council - ECPv6.15.12.2//NONSGML v1.0//EN
CALSCALE:GREGORIAN
METHOD:PUBLISH
X-WR-CALNAME:Stanly County Arts Council
X-ORIGINAL-URL:https://stanlycountyartscouncil.org
X-WR-CALDESC:Events for Stanly County Arts Council
REFRESH-INTERVAL;VALUE=DURATION:PT1H
X-Robots-Tag:noindex
X-PUBLISHED-TTL:PT1H
BEGIN:VTIMEZONE
TZID:America/New_York
BEGIN:DAYLIGHT
TZOFFSETFROM:-0500
TZOFFSETTO:-0400
TZNAME:EDT
DTSTART:20200308T070000
END:DAYLIGHT
BEGIN:STANDARD
TZOFFSETFROM:-0400
TZOFFSETTO:-0500
TZNAME:EST
DTSTART:20201101T060000
END:STANDARD
BEGIN:DAYLIGHT
TZOFFSETFROM:-0500
TZOFFSETTO:-0400
TZNAME:EDT
DTSTART:20210314T070000
END:DAYLIGHT
BEGIN:STANDARD
TZOFFSETFROM:-0400
TZOFFSETTO:-0500
TZNAME:EST
DTSTART:20211107T060000
END:STANDARD
BEGIN:DAYLIGHT
TZOFFSETFROM:-0500
TZOFFSETTO:-0400
TZNAME:EDT
DTSTART:20220313T070000
END:DAYLIGHT
BEGIN:STANDARD
TZOFFSETFROM:-0400
TZOFFSETTO:-0500
TZNAME:EST
DTSTART:20221106T060000
END:STANDARD
END:VTIMEZONE
BEGIN:VEVENT
DTSTART;TZID=America/New_York:20211118T190000
DTEND;TZID=America/New_York:20211118T203000
DTSTAMP:20260423T224518
CREATED:20211115T214750Z
LAST-MODIFIED:20211115T215015Z
UID:10000068-1637262000-1637267400@stanlycountyartscouncil.org
SUMMARY:Albemarle High School presents TASKMASTER: Live
DESCRIPTION:Albemarle High School presents Taskmaster: Live\, an insanely fun game show where contestants complete comedically elaborate tasks to collect points to determine a winner\, starring Jaliz McRae\, Tanya Crisco\, Adrianna Roepcke\, Nathan Rayazuniga\, and Mekhi Baldwin.  Many special appearances including Chuck Carte as the Taskmaster. \nWatch in person or live streaming is available.  Tickets available only online.  Tickets are $5 each or $15 for a family.  Live streaming is $5 (both individual and family.) \n 
URL:https://stanlycountyartscouncil.org/event/albemarle-high-school-presents-taskmaster-live/
LOCATION:Albemarle High School Auditorium\, 311 Park Ridge Road\, Albemarle\, NC\, 28001\, United States
ATTACH;FMTTYPE=image/jpeg:https://stanlycountyartscouncil.org/wp-content/uploads/2021/11/image.psd.jpg
ORGANIZER;CN="Albemarle High School Theatre Department":MAILTO:chuck.carte@stanlycountyschools.org
END:VEVENT
END:VCALENDAR