BEGIN:VCALENDAR
VERSION:2.0
PRODID:-//Stanly County Arts Council - ECPv6.15.12.2//NONSGML v1.0//EN
CALSCALE:GREGORIAN
METHOD:PUBLISH
X-WR-CALNAME:Stanly County Arts Council
X-ORIGINAL-URL:https://stanlycountyartscouncil.org
X-WR-CALDESC:Events for Stanly County Arts Council
REFRESH-INTERVAL;VALUE=DURATION:PT1H
X-Robots-Tag:noindex
X-PUBLISHED-TTL:PT1H
BEGIN:VTIMEZONE
TZID:America/New_York
BEGIN:DAYLIGHT
TZOFFSETFROM:-0500
TZOFFSETTO:-0400
TZNAME:EDT
DTSTART:20200308T070000
END:DAYLIGHT
BEGIN:STANDARD
TZOFFSETFROM:-0400
TZOFFSETTO:-0500
TZNAME:EST
DTSTART:20201101T060000
END:STANDARD
BEGIN:DAYLIGHT
TZOFFSETFROM:-0500
TZOFFSETTO:-0400
TZNAME:EDT
DTSTART:20210314T070000
END:DAYLIGHT
BEGIN:STANDARD
TZOFFSETFROM:-0400
TZOFFSETTO:-0500
TZNAME:EST
DTSTART:20211107T060000
END:STANDARD
BEGIN:DAYLIGHT
TZOFFSETFROM:-0500
TZOFFSETTO:-0400
TZNAME:EDT
DTSTART:20220313T070000
END:DAYLIGHT
BEGIN:STANDARD
TZOFFSETFROM:-0400
TZOFFSETTO:-0500
TZNAME:EST
DTSTART:20221106T060000
END:STANDARD
END:VTIMEZONE
BEGIN:VEVENT
DTSTART;TZID=America/New_York:20210429T090000
DTEND;TZID=America/New_York:20210630T170000
DTSTAMP:20260421T112000
CREATED:20210429T183055Z
LAST-MODIFIED:20210429T183055Z
UID:10000051-1619686800-1625072400@stanlycountyartscouncil.org
SUMMARY:WSMS Student Art Show
DESCRIPTION:The Locust Town Library will have WSMS student art on exhibit through June 2021.\n6th grade students created art using symmetry. Their twelve framed works of art will be on display through June.
URL:https://stanlycountyartscouncil.org/event/wsms-student-art-show/
LOCATION:Locust Town Library\, 186 Ray Kennedy Dr\, Locust\, nc
CATEGORIES:Various Arts,Student Art Show
ATTACH;FMTTYPE=image/png:https://stanlycountyartscouncil.org/wp-content/uploads/2021/04/Untitled-presentation-1.png
ORGANIZER;CN="West Stanly Middle School - Art Department":MAILTO:stacy.bottoms@stanlycountyschools.org
END:VEVENT
END:VCALENDAR