BEGIN:VCALENDAR
VERSION:2.0
PRODID:-//Stanly County Arts Council - ECPv6.15.12.2//NONSGML v1.0//EN
CALSCALE:GREGORIAN
METHOD:PUBLISH
X-WR-CALNAME:Stanly County Arts Council
X-ORIGINAL-URL:https://stanlycountyartscouncil.org
X-WR-CALDESC:Events for Stanly County Arts Council
REFRESH-INTERVAL;VALUE=DURATION:PT1H
X-Robots-Tag:noindex
X-PUBLISHED-TTL:PT1H
BEGIN:VTIMEZONE
TZID:America/New_York
BEGIN:DAYLIGHT
TZOFFSETFROM:-0500
TZOFFSETTO:-0400
TZNAME:EDT
DTSTART:20220313T070000
END:DAYLIGHT
BEGIN:STANDARD
TZOFFSETFROM:-0400
TZOFFSETTO:-0500
TZNAME:EST
DTSTART:20221106T060000
END:STANDARD
BEGIN:DAYLIGHT
TZOFFSETFROM:-0500
TZOFFSETTO:-0400
TZNAME:EDT
DTSTART:20230312T070000
END:DAYLIGHT
BEGIN:STANDARD
TZOFFSETFROM:-0400
TZOFFSETTO:-0500
TZNAME:EST
DTSTART:20231105T060000
END:STANDARD
BEGIN:DAYLIGHT
TZOFFSETFROM:-0500
TZOFFSETTO:-0400
TZNAME:EDT
DTSTART:20240310T070000
END:DAYLIGHT
BEGIN:STANDARD
TZOFFSETFROM:-0400
TZOFFSETTO:-0500
TZNAME:EST
DTSTART:20241103T060000
END:STANDARD
END:VTIMEZONE
BEGIN:VEVENT
DTSTART;TZID=America/New_York:20231203T160000
DTEND;TZID=America/New_York:20231203T170000
DTSTAMP:20260421T081120
CREATED:20230821T141434Z
LAST-MODIFIED:20231023T151155Z
UID:10000113-1701619200-1701622800@stanlycountyartscouncil.org
SUMMARY:Stanly County Chorale\, with the Anson Singers\, present Handel's "Messiah"
DESCRIPTION:In celebration of the Stanly County Chorale’s 55th Anniversary\, the Stanly County Chorale\, along with the Anson Singers\, will present Handel’s “Messiah”  accompanied by a string quartet and organist. \nFree! \nSaturday\, December 2 @ 7 pm @ First Presbyterian Church\, 126 W.  North St\, Albemarle \nSunday\, December 3 @ 4 pm @ First United Methodist Church\, 118 W. Morgan St.\, Wadesboro \n  \n \n 
URL:https://stanlycountyartscouncil.org/event/handels-messiah/
LOCATION:First United Methodist Church\, Wadesboro\, 118 E Morgan St\, Wadesboro\, 28170
CATEGORIES:Music,Stanly County Chorale,Holiday
ATTACH;FMTTYPE=image/png:https://stanlycountyartscouncil.org/wp-content/uploads/2023/08/Messiah-1-e1698073873562.png
ORGANIZER;CN="Stanly County Chorale":MAILTO:info@stanlychorale.org
END:VEVENT
END:VCALENDAR